BEGIN:VCALENDAR
VERSION:2.0
PRODID:-//ChamberMaster//Event Calendar 2.0//EN
METHOD:PUBLISH
X-PUBLISHED-TTL:P3D
REFRESH-INTERVAL:P3D
CALSCALE:GREGORIAN
BEGIN:VEVENT
DTSTART:20161225T150000Z
DTEND:20161225T210000Z
X-MICROSOFT-CDO-ALLDAYEVENT:FALSE
SUMMARY:EPIC CATERING offering CHRISTMAS DINNER for pick up CHRISTMAS DAY
DESCRIPTION:EPIC CATERING is cooking CHRISTMAS DINNER! \n\nAll Christmas orders are available for pick-up Christmas Day\, December 25\, 2016 from 10 am - 4 pm\n\n\n\nALL ORDERS MUST BE RECEIVED BY WEDNESDAY\, DECEMBER 21!!!!\n\n\n\n(Contact us if you would like to arrange a different pick up time)\n\n\n\nClick here to order now: https://www.orderstart.com/e-entreesorder
X-ALT-DESC;FMTTYPE=text/html:EPIC CATERING is cooking CHRISTMAS DINNER!&nbsp\;<br />\nAll Christmas orders are available for pick-up Christmas Day\, December 25\, 2016 from 10 am - 4 pm<br />\n<br />\nALL ORDERS MUST BE RECEIVED BY WEDNESDAY\, DECEMBER 21!!!!<br />\n<br />\n(Contact us if you would like to arrange a different pick up time)<br />\n<br />\nClick here to order now:&nbsp\;<a href="https://www.orderstart.com/e-entreesorder">https://www.orderstart.com/e-entreesorder</a>
LOCATION:Epic Catering 1655 Highway 76 Hiawassee\, GA 30546
UID:e.256.60684
SEQUENCE:3
DTSTAMP:20260420T094514Z
URL:https://members.visitblairsvillega.com/events/details/epic-catering-offering-christmas-dinner-for-pick-up-christmas-day-60684
END:VEVENT

END:VCALENDAR
