BEGIN:VCALENDAR
VERSION:2.0
PRODID:-//ChamberMaster//Event Calendar 2.0//EN
METHOD:PUBLISH
X-PUBLISHED-TTL:P3D
REFRESH-INTERVAL:P3D
CALSCALE:GREGORIAN
BEGIN:VEVENT
DTSTART:20161124T150000Z
DTEND:20161124T210000Z
X-MICROSOFT-CDO-ALLDAYEVENT:FALSE
SUMMARY:Epic Thanksgiving Dinner for Pick-Up
DESCRIPTION:Epic Catering is offering THANKSGIVING dinner available for pick-up Thanksgiving Day\, November 24\, 2016 from 10 am - 4 pm\n\n \n\nALL ORDERS MUST BE RECEIVED BY  Tuesday\, NOVEMBER 22!!!!\n\n(Contact us if you would like to arrange a different pick up time)\n\n\n\nAll items will be given to you HOT (items that should be hot) so keep that in mind for your planning!
X-ALT-DESC;FMTTYPE=text/html:Epic Catering is offering THANKSGIVING dinner available for pick-up Thanksgiving Day\, November 24\, 2016 from 10 am - 4 pm<br />\n&nbsp\;<br />\nALL ORDERS MUST BE RECEIVED BY &nbsp\;Tuesday\, NOVEMBER 22!!!!<br />\n(Contact us if you would like to arrange a different pick up time)<br />\n<br />\nAll items will be given to you HOT (items that should be hot) so keep that in mind for your planning!<br />\n<br />\n&nbsp\;
LOCATION:Epic Catering: 1655 Highway 76 West Hiawassee\, GA 30546 Pull around the building counter-clockwise and we will deliver your food curb-side. No need to even get out of your car!
UID:e.256.59687
SEQUENCE:3
DTSTAMP:20260420T112734Z
URL:https://members.visitblairsvillega.com/events/details/epic-thanksgiving-dinner-for-pick-up-59687
END:VEVENT

END:VCALENDAR
