BEGIN:VCALENDAR
VERSION:2.0
PRODID:-//ChamberMaster//Event Calendar 2.0//EN
METHOD:PUBLISH
X-PUBLISHED-TTL:P3D
REFRESH-INTERVAL:P3D
CALSCALE:GREGORIAN
BEGIN:VEVENT
DTSTART:20141004T233000Z
DTEND:20141005T020000Z
X-MICROSOFT-CDO-ALLDAYEVENT:FALSE
SUMMARY:Ernie Haase and Signature Sound
DESCRIPTION:Big hopes. Out-of-the-box ideas. Ernie Haase has never been one to think small. He may have started life in a little town in Indiana\, but he's traveled around the world offering joy and encouragement through the music of his group\, Ernie Haase & Signature Sound.
X-ALT-DESC;FMTTYPE=text/html:Big hopes. Out-of-the-box ideas. Ernie Haase has never been one to think small. He may have started life in a little town in Indiana\, but he&#39\;s traveled around the world offering joy and encouragement through the music of his group\, Ernie Haase &amp\; Signature Sound.
LOCATION:Smoky Mountain Center for the Performing Arts 1028 Georgia Road Franklin\, NC 28734
UID:e.256.27527
SEQUENCE:3
DTSTAMP:20260424T045634Z
URL:https://members.visitblairsvillega.com/events/details/ernie-haase-and-signature-sound-10-04-2014-27527
END:VEVENT

END:VCALENDAR
