BEGIN:VCALENDAR
VERSION:2.0
PRODID:-//ChamberMaster//Event Calendar 2.0//EN
METHOD:PUBLISH
X-PUBLISHED-TTL:P3D
REFRESH-INTERVAL:P3D
CALSCALE:GREGORIAN
BEGIN:VEVENT
DTSTART:20140918T200000Z
DTEND:20140918T210000Z
X-MICROSOFT-CDO-ALLDAYEVENT:FALSE
SUMMARY:Essential Sign Language with Marcie Harper
DESCRIPTION:September 2014 September 4\, 11\, 18\, 25\; October 9 (Thursdays) 4:00 - 5:00 pm Essential Sign Language with Marcie Harper $30 non-member During these 5 one-hour weekly sessions\, participants will learn 100 basic signs\, compose brief sign language sentences\, and memorize signs for at least one story or song. In addition\, participants will be introduced to some unique characteristics of American Sign Language and Deaf culture.
X-ALT-DESC;FMTTYPE=text/html:September 2014 September 4\, 11\, 18\, 25\; October 9 (Thursdays) 4:00 - 5:00 pm Essential Sign Language with Marcie Harper $30 non-member During these 5 one-hour weekly sessions\, participants will learn 100 basic signs\, compose brief sign language sentences\, and memorize signs for at least one story or song. In addition\, participants will be introduced to some unique characteristics of American Sign Language and Deaf culture.
LOCATION:Blue Ridge Mountains Arts Association 420 West Main Street Blue Ridge\, GA 30513
UID:e.256.27298
SEQUENCE:3
DTSTAMP:20260424T073637Z
URL:https://members.visitblairsvillega.com/events/details/essential-sign-language-with-marcie-harper-09-18-2014-27298
END:VEVENT

END:VCALENDAR
