BEGIN:VCALENDAR
VERSION:2.0
PRODID:-//ChamberMaster//Event Calendar 2.0//EN
METHOD:PUBLISH
X-PUBLISHED-TTL:P3D
REFRESH-INTERVAL:P3D
CALSCALE:GREGORIAN
BEGIN:VEVENT
DTSTART:20140928T170000Z
DTEND:20140928T220000Z
X-MICROSOFT-CDO-ALLDAYEVENT:FALSE
SUMMARY:Event at Jerae's Unity Alpacas
DESCRIPTION:Our farm is participating in National Alpaca Farm Days on Sat.\, Sept. 27 from 10 AM to 5 PM and Sun.\, Sept. 28 from 1 to 6 PM. We are a small farm with 16 alpacas\, 5 laying hens\, 2 dogs\, and 2 cats. We want to invite you to visit us to learn about alpacas plus interact with them by feeding them treats and touching their soft fleece. Also\, you may visit our farm store to see items made from their luxurious fiber and to observe some fiber demonstrations. Furthermore\, we will have some of our craft items (pyrography plaques\; floral wreaths and baskets\; ornaments) plus various and unique gift items on display. Light refreshments will be available. Please call either number for directions to the farm!!
X-ALT-DESC;FMTTYPE=text/html:Our farm is participating in National Alpaca Farm Days on Sat.\, Sept. 27 from 10 AM to 5 PM and Sun.\, Sept. 28 from 1 to 6 PM. We are a small farm with 16 alpacas\, 5 laying hens\, 2 dogs\, and 2 cats. We want to invite you to visit us to learn about alpacas plus interact with them by feeding them treats and touching their soft fleece. Also\, you may visit our farm store to see items made from their luxurious fiber and to observe some fiber demonstrations. Furthermore\, we will have some of our craft items (pyrography plaques\; floral wreaths and baskets\; ornaments) plus various and unique gift items on display. Light refreshments will be available. Please call either number for directions to the farm!!
LOCATION:Jerae's Unity Alpacas 1338 Henson Rd Blairsville\, GA 30512
UID:e.256.27338
SEQUENCE:3
DTSTAMP:20260424T073550Z
URL:https://members.visitblairsvillega.com/events/details/event-at-jerae-s-unity-alpacas-09-28-2014-27338
END:VEVENT

END:VCALENDAR
