BEGIN:VCALENDAR
VERSION:2.0
PRODID:-//ChamberMaster//Event Calendar 2.0//EN
METHOD:PUBLISH
X-PUBLISHED-TTL:P3D
REFRESH-INTERVAL:P3D
CALSCALE:GREGORIAN
BEGIN:VEVENT
DTSTART:20140606T160000Z
DTEND:20140607T160000Z
X-MICROSOFT-CDO-ALLDAYEVENT:FALSE
SUMMARY:Events at The Fieldstone Resort
DESCRIPTION:Friday 6/6: Tennyson @Sand Bar\n\nSaturday 6/7: Tony Ford @ Sand Bar\n\nSaturday 6/7: Tennyson @ Firelight\n\n\n\nLauren Thompson Administrative Assistant Reservations Coordinator Fieldstone Resort www.fieldstoneresort.com 706.896.2440 (voice) 706.896.2441 (fax) lauren@fieldstoneresort.com
X-ALT-DESC;FMTTYPE=text/html:Friday 6/6: Tennyson @Sand Bar<br />\nSaturday 6/7: Tony Ford @ Sand Bar<br />\nSaturday 6/7: Tennyson @ Firelight<br />\n<br />\nLauren Thompson Administrative Assistant Reservations Coordinator Fieldstone Resort www.fieldstoneresort.com 706.896.2440 (voice) 706.896.2441 (fax) lauren@fieldstoneresort.com
LOCATION:The Fieldstone Resort
UID:e.256.24597
SEQUENCE:3
DTSTAMP:20260424T121748Z
URL:https://members.visitblairsvillega.com/events/details/events-at-the-fieldstone-resort-06-06-2014-24597
END:VEVENT

END:VCALENDAR
