BEGIN:VCALENDAR
VERSION:2.0
PRODID:-//ChamberMaster//Event Calendar 2.0//EN
METHOD:PUBLISH
X-PUBLISHED-TTL:P3D
REFRESH-INTERVAL:P3D
CALSCALE:GREGORIAN
BEGIN:VEVENT
DTSTART:20140321T153000Z
DTEND:20140321T173000Z
X-MICROSOFT-CDO-ALLDAYEVENT:FALSE
SUMMARY:Excel 2010 Tips and Tricks
DESCRIPTION:Excel 2010 Tips and Tricks\n\n\n\nPresented by Cecilia Crawford of Firm Answers Now\n\n\n\nExcel can be your lifesaver in managing your business information. This 2-hr seminar will cover a variety of topics to help participants use Excel 2010 more effectively. Some of the things you will learn include conditional formatting\, keyboard shortcuts\, logical formulas\, absolute references\, charts\, formatting options\, and preparing for printing. Please note that a basic understanding of Excel is needed for this seminar.
X-ALT-DESC;FMTTYPE=text/html:<span style="font-family: arial\;"><span style="font-size: 10pt\;"><strong>Excel 2010 Tips and Tricks</strong></span><br />\n<br />\n<span style="font-size: 10pt\;">Presented by Cecilia Crawford of <font size="2">Firm Answers Now</font></span><br />\n<br />\n<span style="font-size: 10pt\;">Excel can be your lifesaver in managing your business information. This 2-hr seminar</span><span style="font-size: 10pt\;"> will cover a variety of topics to help participants use Excel 2010 more effectively. Some of the things you will learn include conditional formatting\, keyboard shortcuts\, logical formulas\, absolute references\, charts\, formatting options\, and preparing for printing. Please note that a basic understanding of Excel is needed for this seminar.</span></span><br />\n&nbsp\;
LOCATION:Union County Community Center 129 Union County Rec Road Blairsville\, GA
UID:e.256.22943
SEQUENCE:3
DTSTAMP:20260424T152723Z
URL:https://members.visitblairsvillega.com/events/details/excel-2010-tips-and-tricks-03-21-2014-22943
END:VEVENT

END:VCALENDAR
