BEGIN:VCALENDAR
VERSION:2.0
PRODID:-//ChamberMaster//Event Calendar 2.0//EN
METHOD:PUBLISH
X-PUBLISHED-TTL:P3D
REFRESH-INTERVAL:P3D
CALSCALE:GREGORIAN
BEGIN:VEVENT
DTSTART:20140924T150000Z
DTEND:20140924T173000Z
X-MICROSOFT-CDO-ALLDAYEVENT:FALSE
SUMMARY:Facebook Class
DESCRIPTION:43% of B2B companies and 77% of B2C companies reported that they have acquired a customer through Facebook. \n\n \n\nClearly\, Facebook has become a key marketing piece for business success. But how do you fit that piece in the bigger marketing picture? Better yet "how" do you use Facebook?\n\n \n\nWell we have some good news! On September 24th we are going to be hosting a hands-on workshop for Facebook here at the chamber with Matt Meeks from m6media. \n\n \n\nYou can bring your laptop\, iPad\, or smartphone because we are going to work through everybody's questions live on Facebook! So come ready to ask questions and learn how to use Facebook for your business! \n\n \n\n \n\nWhat are we going to be talking about specifically?\n\n \n\n \n\n	\n		\n			 \n			Everything Starts with Your Facebook Page\n\n			Your Facebook page is mission control for your business: all other Facebook marketing begins with it. Learn how to build a strong storefront that can fuel the rest of your Facebook marketing efforts.\n\n			 \n		\n		\n			 \n			Connect to New Fans with Facebook Ads \n\n			Start building your fan base by inviting friends\, family and employees to like your Page. Learn how you can target Facebook ads to increase the number of connections your Page can accumulate.\n\n			 \n		\n		\n			 \n			Engage Your Fans with Quality Content\n\n			The Facebook Newsfeed is dynamic: on average\, only 16% of users see the updates you post on your Page. Learn what content to post\, how frequently to post\, and how to boost the distribution of those posts by sponsoring them.\n\n			 \n		\n		\n			 \n			Influence the Friends of Your Fans\n\n			Word-of-mouth marketing is strongest when you truly trust its source. Learn how to post stories in your friends' feeds to spread your brand's influence in a targeted way.
X-ALT-DESC;FMTTYPE=text/html:<span style="font-size: medium\;"><span style="font-family: cambria\;">43% of B2B companies and 77% of B2C companies reported that they have acquired a customer through Facebook. </span></span><br />\n&nbsp\;<br />\n<span style="font-size: medium\;"><span style="font-family: cambria\;">Clearly\, Facebook has become a key marketing piece for business success. But how do you fit that piece in the bigger marketing picture? Better yet &ldquo\;how&rdquo\; do you use Facebook?</span></span><br />\n&nbsp\;<br />\n<span style="font-size: medium\;"><span style="font-family: cambria\;">Well we have some good news! On September 24<sup><span style="font-size: small\;">th</span></sup> we are going to be hosting a hands-on workshop for Facebook here at the chamber with Matt Meeks from <a href="http://m6media.net">m6media</a>. </span></span><br />\n&nbsp\;<br />\n<span style="font-size: medium\;"><span style="font-family: cambria\;">You can bring your laptop\, iPad\, or smartphone because we are going to work through everybody&rsquo\;s questions live on Facebook! So come ready to ask questions and learn how to use Facebook for your business! </span></span><br />\n&nbsp\;<br />\n&nbsp\;<br />\n<strong><em><span style="font-size: 16pt\;"><span style="font-family: cambria\;">What are we going to be talking about specifically?</span></span></em></strong><br />\n&nbsp\;<br />\n&nbsp\;\n<table border="0" cellpadding="0" cellspacing="0" style="margin: auto auto auto -62.1pt\; border-collapse: collapse\;" width="762">\n	<tbody>\n		<tr style="height: 96px\;">\n			<td style="padding: 0in 5.4pt\; border: rgb(0\, 0\, 0)\; border-image: none\; width: 126px\; height: 96px\;">&nbsp\;</td>\n			<td style="padding: 0in 5.4pt\; border: rgb(0\, 0\, 0)\; border-image: none\; width: 636px\; height: 96px\;"><strong><span style="font-size: medium\;"><span style="font-family: cambria\;">Everything Starts with Your Facebook Page</span></span></strong><br />\n			<span style="font-size: medium\;"><span style="font-family: cambria\;">Your Facebook page is mission control for your business: all other Facebook marketing begins with it. Learn how to build a strong storefront that can fuel the rest of your Facebook marketing efforts.</span></span><br />\n			&nbsp\;</td>\n		</tr>\n		<tr style="height: 96px\;">\n			<td style="padding: 0in 5.4pt\; border: rgb(0\, 0\, 0)\; border-image: none\; width: 126px\; height: 96px\;">&nbsp\;</td>\n			<td style="padding: 0in 5.4pt\; border: rgb(0\, 0\, 0)\; border-image: none\; width: 636px\; height: 96px\;"><strong><span style="font-size: medium\;"><span style="font-family: cambria\;">Connect to New Fans with Facebook Ads </span></span></strong><br />\n			<span style="font-size: medium\;"><span style="font-family: cambria\;">Start building your fan base by inviting friends\, family and employees to like your Page. Learn how you can target Facebook ads to increase the number of connections your Page can accumulate.</span></span><br />\n			&nbsp\;</td>\n		</tr>\n		<tr style="height: 96px\;">\n			<td style="padding: 0in 5.4pt\; border: rgb(0\, 0\, 0)\; border-image: none\; width: 126px\; height: 96px\;">&nbsp\;</td>\n			<td style="padding: 0in 5.4pt\; border: rgb(0\, 0\, 0)\; border-image: none\; width: 636px\; height: 96px\;"><strong><span style="font-size: medium\;"><span style="font-family: cambria\;">Engage Your Fans with Quality Content</span></span></strong><br />\n			<span style="font-size: medium\;"><span style="font-family: cambria\;">The Facebook Newsfeed is dynamic: on average\, only 16% of users see the updates you post on your Page. Learn what content to post\, how frequently to post\, and how to boost the distribution of those posts by sponsoring them.</span></span><br />\n			&nbsp\;</td>\n		</tr>\n		<tr style="height: 96px\;">\n			<td style="padding: 0in 5.4pt\; border: rgb(0\, 0\, 0)\; border-image: none\; width: 126px\; height: 96px\;">&nbsp\;</td>\n			<td style="padding: 0in 5.4pt\; border: rgb(0\, 0\, 0)\; border-image: none\; width: 636px\; height: 96px\;"><strong><span style="font-size: medium\;"><span style="font-family: cambria\;">Influence the Friends of Your Fans</span></span></strong><br />\n			<span style="font-size: medium\;"><span style="font-family: cambria\;">Word-of-mouth marketing is strongest when you truly trust its source. Learn how to post stories in your friends&#39\; feeds to spread your brand&#39\;s influence in a targeted way.</span></span><a name="_GoBack"></a></td>\n		</tr>\n	</tbody>\n</table>\n&nbsp\;<br />\n&nbsp\;
LOCATION:Union County Community Center
UID:e.256.26176
SEQUENCE:3
DTSTAMP:20260424T061111Z
URL:https://members.visitblairsvillega.com/events/details/facebook-class-09-24-2014-26176
END:VEVENT

END:VCALENDAR
