BEGIN:VCALENDAR
VERSION:2.0
PRODID:-//ChamberMaster//Event Calendar 2.0//EN
METHOD:PUBLISH
X-PUBLISHED-TTL:P3D
REFRESH-INTERVAL:P3D
CALSCALE:GREGORIAN
BEGIN:VEVENT
DTSTART:20161008T140000Z
DTEND:20161008T210000Z
X-MICROSOFT-CDO-ALLDAYEVENT:FALSE
SUMMARY:Fall Arts in the Park
DESCRIPTION:Join us for the Fall Arts in the Park festival in the Downtown City Park in Blue Ridge\, GA.  Enjoy nearly 100 fine art and fine craft artists\, delicious food\, kid?s art zone and mother nature?s colorful array of fall splendor. Weekend Admission: adults $5\; children under 12 free.
X-ALT-DESC;FMTTYPE=text/html:<span style="font-size: 12pt\;"><span style="font-family: adobe caslon pro bold\,serif\;">Join us for the Fall Arts in the Park festival in the Downtown City Park in Blue Ridge\, GA.&nbsp\; Enjoy nearly 100 fine art and fine craft artists\, delicious food\, kid?s art zone and mother nature?s colorful array of fall splendor. <span style="color: black\;">Weekend Admission: adults $5\; children under 12 free.&nbsp\; </span></span></span><br>\n&nbsp\;
LOCATION:Downtown City Park Blue Ridge\, GA 30513
UID:e.256.53662
SEQUENCE:3
DTSTAMP:20260420T130842Z
URL:https://members.visitblairsvillega.com/events/details/fall-arts-in-the-park-10-08-2016-53662
END:VEVENT

END:VCALENDAR
