BEGIN:VCALENDAR
VERSION:2.0
PRODID:-//ChamberMaster//Event Calendar 2.0//EN
METHOD:PUBLISH
X-PUBLISHED-TTL:P3D
REFRESH-INTERVAL:P3D
CALSCALE:GREGORIAN
BEGIN:VEVENT
DTSTART:20151010T140000Z
DTEND:20151010T210000Z
X-MICROSOFT-CDO-ALLDAYEVENT:FALSE
SUMMARY:Fall Arts in the Park
DESCRIPTION:Join us for the Fall Arts in the Park festival in the Downtown City Park in Blue Ridge\, GA.  Enjoy nearly 100 fine art and fine craft artists\, delicious food\, and mother nature?s colorful array of Fall splendor.  Festival hours are 10am-5pm. Weekend admission is $5 for adults\; Children are admitted free.  All proceeds go to benefit the Blue Ridge Mountains Arts Association\, a 501(c)3 non-profit arts association. For more information visit our website at www.blueridgearts.net.   Submission deadline is July 1\, 2015.
X-ALT-DESC;FMTTYPE=text/html:<span style="font-size: 12pt\;"><span style="font-family: adobe caslon pro bold\,serif\;">Join us for the Fall Arts in the Park festival in the Downtown City Park in Blue Ridge\, GA.&nbsp\; Enjoy nearly 100 fine art and fine craft artists\, delicious food\, and mother nature?s colorful array of Fall splendor.&nbsp\; Festival hours are 10am-5pm. <span style="color: rgb(51\, 51\, 51)\;">Weekend admission is $5 for adults\; Children are admitted free.&nbsp\; All proceeds go to benefit the Blue Ridge Mountains Arts Association\, a 501(c)3 non-profit arts association.</span> For more information visit our website at www.blueridgearts.net. &nbsp\;&nbsp\;Submission deadline is July 1\, 2015.</span></span><br>\n&nbsp\;
LOCATION:The Art Center (Blue Ridge Mountains Arts Association) 420 West Main Street Blue Ridge\, GA 30513
UID:e.256.38156
SEQUENCE:3
DTSTAMP:20260423T102728Z
URL:https://members.visitblairsvillega.com/events/details/fall-arts-in-the-park-10-10-2015-38156
END:VEVENT

END:VCALENDAR
