BEGIN:VCALENDAR
VERSION:2.0
PRODID:-//ChamberMaster//Event Calendar 2.0//EN
METHOD:PUBLISH
X-PUBLISHED-TTL:P3D
REFRESH-INTERVAL:P3D
CALSCALE:GREGORIAN
BEGIN:VEVENT
DTSTART:20140927T170000Z
DTEND:20140927T220000Z
X-MICROSOFT-CDO-ALLDAYEVENT:FALSE
SUMMARY:Fall Family Fun Fest
DESCRIPTION:Fall Family Fun Fest at Mountain Crossings at Walasi-Yi\n\nMusic\, food\, pottery\, gear\, raffle\, and fun for everyone!\n\n\n\nBarker Brothers Bluegrass Band starts at 1:00pm\n\n\n\nMountain Hope Pottery will be doing a demonstration on the wheel. Eight preregistered people will throw their own bowls that she will fire for you! Please call 706-745-6095 to register. \n\n\n\nGear raffle\, including day packs/ headlamps/ trekking poles etc\, will be going on throughout the day!\n\n$10 donation per ticket. 100% proceeds will be donated to the Georgia Appalachian Trail Club!
X-ALT-DESC;FMTTYPE=text/html:Fall Family Fun Fest at Mountain Crossings at Walasi-Yi<br />\nMusic\, food\, pottery\, gear\, raffle\, and fun for everyone!<br />\n<br />\n<strong>Barker Brothers Bluegrass Band starts at 1:00pm</strong><br />\n<br />\nMountain Hope Pottery will be doing a demonstration on the wheel. Eight preregistered people will throw their own bowls that she will fire for you! <strong>Please call 706-745-6095 to register. </strong><br />\n<br />\nGear raffle\, including day packs/ headlamps/ trekking poles etc\, will be going on throughout the day!<br />\n$10 donation per ticket. 100% proceeds will be donated to the Georgia Appalachian Trail Club!
LOCATION:Mountain Crossings at Walasi - Yi 12471 Gainesville Hwy ( 19/129S ) Blairsville
UID:e.256.26236
SEQUENCE:3
DTSTAMP:20260424T073653Z
URL:https://members.visitblairsvillega.com/events/details/fall-family-fun-fest-09-27-2014-26236
END:VEVENT

END:VCALENDAR
