BEGIN:VCALENDAR
VERSION:2.0
PRODID:-//ChamberMaster//Event Calendar 2.0//EN
METHOD:PUBLISH
X-PUBLISHED-TTL:P3D
REFRESH-INTERVAL:P3D
CALSCALE:GREGORIAN
BEGIN:VEVENT
DTSTART:20161007T130000Z
DTEND:20161008T200000Z
X-MICROSOFT-CDO-ALLDAYEVENT:FALSE
SUMMARY:Fall Festival
DESCRIPTION:First Methodist will be having a Fall Festival with crafts\,clothes closet\, candy store\, country store\, bakery\, and children's activities.
X-ALT-DESC;FMTTYPE=text/html:First Methodist will be having a Fall Festival with crafts\,clothes closet\, candy store\, country store\, bakery\, and children&#39\;s activities.
LOCATION:First United Methodist of Union County 938 Highway 515 Blairsville
UID:e.256.54066
SEQUENCE:3
DTSTAMP:20260420T130811Z
URL:https://members.visitblairsvillega.com/events/details/fall-festival-10-07-2016-54066
END:VEVENT

END:VCALENDAR
