BEGIN:VCALENDAR
VERSION:2.0
PRODID:-//ChamberMaster//Event Calendar 2.0//EN
METHOD:PUBLISH
X-PUBLISHED-TTL:P3D
REFRESH-INTERVAL:P3D
CALSCALE:GREGORIAN
BEGIN:VEVENT
DTSTART:20171014T130000Z
DTEND:20171014T180000Z
X-MICROSOFT-CDO-ALLDAYEVENT:FALSE
SUMMARY:Fall Festival at First UMC
DESCRIPTION:Crafts\, baked goods\, candy shoppe\, country store\, trash and treasures\, gently used clothing\, and so much more! United Methodist Men's almost famous barbeque for lunch or carry out. Fun for the entire family!
X-ALT-DESC;FMTTYPE=text/html:Crafts\, baked goods\, candy shoppe\, country store\, trash and treasures\, gently used clothing\, and so much more! United Methodist Men&#39\;s almost famous barbeque for lunch or carry out. Fun for the entire family!
LOCATION:938 HWY 515 across from Meeks Park in Blairsville
UID:e.256.76111
SEQUENCE:3
DTSTAMP:20260419T155909Z
URL:https://members.visitblairsvillega.com/events/details/fall-festival-at-first-umc-10-14-2017-76111
END:VEVENT

END:VCALENDAR
