BEGIN:VCALENDAR
VERSION:2.0
PRODID:-//ChamberMaster//Event Calendar 2.0//EN
METHOD:PUBLISH
X-PUBLISHED-TTL:P3D
REFRESH-INTERVAL:P3D
CALSCALE:GREGORIAN
BEGIN:VEVENT
DTSTART:20161015T140000Z
DTEND:20161015T180000Z
X-MICROSOFT-CDO-ALLDAYEVENT:FALSE
SUMMARY:Fall Fly In
DESCRIPTION:Good food\, airplanes and friendly conversation. Come fly in to Blairsville.
X-ALT-DESC;FMTTYPE=text/html:Good food\, airplanes and friendly conversation. Come fly in to Blairsville.
LOCATION:Blairsville Airport
UID:e.256.58122
SEQUENCE:3
DTSTAMP:20260420T125345Z
URL:https://members.visitblairsvillega.com/events/details/fall-fly-in-58122
END:VEVENT

END:VCALENDAR
