BEGIN:VCALENDAR
VERSION:2.0
PRODID:-//ChamberMaster//Event Calendar 2.0//EN
METHOD:PUBLISH
X-PUBLISHED-TTL:P3D
REFRESH-INTERVAL:P3D
CALSCALE:GREGORIAN
BEGIN:VEVENT
DTSTART:20161026T180000Z
DTEND:20161026T203000Z
X-MICROSOFT-CDO-ALLDAYEVENT:FALSE
SUMMARY:Fall for Alcohol Inks on Tile
DESCRIPTION:You will fall in love with colorful fall designs you create with alcohol ink on 4x4 glazed ceramic tiles.  Instructor guides you step-by-step with easy techniques to create four different designs.  No painting experience needed for this fun and mistake free craft.  You will take home four 4x4 ceramic tiles painted with alcohol ink to display or use as coasters.  On these tiles will be four fall theme designs.
X-ALT-DESC;FMTTYPE=text/html:<span style="color:black\; font-size:14pt">You will fall in love with colorful fall designs you create with alcohol ink on 4x4 glazed ceramic tiles.&nbsp\; Instructor guides you step-by-step with easy techniques to create four different designs.&nbsp\; No painting experience needed for this fun and mistake free craft.&nbsp\; You will take home four 4x4 ceramic tiles painted with alcohol ink to display or use as coasters.&nbsp\; On these tiles will be four fall theme designs.</span>
LOCATION:The Art Center 420 West Main Street Blue Ridge\, GA 30513
UID:e.256.59465
SEQUENCE:3
DTSTAMP:20260420T125446Z
URL:https://members.visitblairsvillega.com/events/details/fall-for-alcohol-inks-on-tile-59465
END:VEVENT

END:VCALENDAR
