BEGIN:VCALENDAR
VERSION:2.0
PRODID:-//ChamberMaster//Event Calendar 2.0//EN
METHOD:PUBLISH
X-PUBLISHED-TTL:P3D
REFRESH-INTERVAL:P3D
CALSCALE:GREGORIAN
BEGIN:VEVENT
DTSTART:20150925T120000Z
DTEND:20150925T220000Z
X-MICROSOFT-CDO-ALLDAYEVENT:FALSE
SUMMARY:Fall Hammer-In at Trackrock
DESCRIPTION:Mark your calendar for Friday\, September 25 & Saturday\, September 26 for the Fall Hammer-In at Trackrock Campground & Cabins. Activities include bladesmithing\, hawk forging\, leather crafting and forge building. Watch\, meet and talk with several talented bladesmiths. See what it takes to transform old discarded steel scrap metal into functional works of art. Fine craftsmen from several states attend\, some collectors bring their collections to display\, knifemaking supply vendors participate and others who come just like to look and talk knives. This is a family oriented event open to all with no admission fees\, so come join in the fun!
X-ALT-DESC;FMTTYPE=text/html:Mark your calendar for Friday\, September 25 &amp\; Saturday\, September 26 for the Fall Hammer-In at Trackrock Campground &amp\; Cabins. Activities include bladesmithing\, hawk forging\, leather crafting and forge building. Watch\, meet and talk with several talented bladesmiths. See what it takes to transform old discarded steel scrap metal into functional works of art. Fine craftsmen from several states attend\, some collectors bring their collections to display\, knifemaking supply vendors participate and others who come just like to look and talk knives. This is a family oriented event open to all with no admission fees\, so come join in the fun!
LOCATION:Trackrock Campground & Cabins
UID:e.256.41373
SEQUENCE:3
DTSTAMP:20260423T121607Z
URL:https://members.visitblairsvillega.com/events/details/fall-hammer-in-at-trackrock-09-25-2015-41373
END:VEVENT

END:VCALENDAR
