BEGIN:VCALENDAR
VERSION:2.0
PRODID:-//ChamberMaster//Event Calendar 2.0//EN
METHOD:PUBLISH
X-PUBLISHED-TTL:P3D
REFRESH-INTERVAL:P3D
CALSCALE:GREGORIAN
BEGIN:VEVENT
DTSTART:20151024T130000Z
DTEND:20151024T170000Z
X-MICROSOFT-CDO-ALLDAYEVENT:FALSE
SUMMARY:FALL INTO FABULOUS SHOPPING EVENT
DESCRIPTION:Get a Jump on Your Holiday Gift Shopping!!\n\nEnjoy Refreshments and Fellowship!!\n\nGet Pampered!!\n\nAll customers that day will also receive:\n\n10% OFF services \n\n 20% OFF Regular Priced Product
X-ALT-DESC;FMTTYPE=text/html:<p align="LEFT"><span style="font-size:14px\;"><font face="TT17Ct00"><font face="TT17Ct00">Get a Jump on Your Holiday Gift Shopping!!</font></font></span></p>\n\n<p align="LEFT"><span style="font-size:14px\;"><font face="TT17Ct00"><font face="TT17Ct00">Enjoy Refreshments and Fellowship!!</font></font></span></p>\n\n<p align="LEFT"><span style="font-size:14px\;"><font face="TT17Ct00"><font face="TT17Ct00">Get Pampered!!</font></font></span></p>\n\n<p align="LEFT"><span style="font-size:14px\;"><font face="TT17Dt00"><font face="TT17Dt00">All customers that day will also receive:</font></font></span></p>\n\n<p><span style="font-size:14px\;"><font color="#006600" face="TT17Bt00"><font color="#006600" face="TT17Bt00"><font color="#006600" face="TT17Bt00">10% OFF services </font></font></font></span></p>\n\n<p><span style="font-size:14px\;"><font color="#006600" face="TT10Ft00"><font color="#006600" face="TT10Ft00"><font color="#006600" face="TT10Ft00"> </font></font></font><font color="#006600" face="TT17Bt00"><font color="#006600" face="TT17Bt00"><font color="#006600" face="TT17Bt00">20% OFF Regular Priced Product</font></font></font></span></p>\n
LOCATION:At Glow Hair & Nail Salon!! 294 Hwy 515\, Suite F Blairsville\, GA 30512
UID:e.256.44302
SEQUENCE:3
DTSTAMP:20260423T102629Z
URL:https://members.visitblairsvillega.com/events/details/fall-into-fabulous-shopping-event-10-24-2015-44302
END:VEVENT

END:VCALENDAR
