BEGIN:VCALENDAR
VERSION:2.0
PRODID:-//ChamberMaster//Event Calendar 2.0//EN
METHOD:PUBLISH
X-PUBLISHED-TTL:P3D
REFRESH-INTERVAL:P3D
CALSCALE:GREGORIAN
BEGIN:VEVENT
DTSTART:20161104T140000Z
DTEND:20161104T200000Z
X-MICROSOFT-CDO-ALLDAYEVENT:FALSE
SUMMARY:Fall Open House - Hillcrest Plaza
DESCRIPTION:Grand Opening for 3 New Blairsville Businesses!!!!!  Featuring Give-Aways & Raffles\, Children's Bounce House & Activities.   Music by Paradise 56!!\n\nSponsored By:   Rustic Mountain Decor\, Computer Repair Solutions & Paradise Music\, Glow Hair Salon (New Ownership)\, Avadanian & Associates\, Sleep USA Mattress and Blimpie's.
X-ALT-DESC;FMTTYPE=text/html:Grand Opening for 3 New Blairsville Businesses!!!!! &nbsp\;Featuring Give-Aways&nbsp\;&amp\; Raffles\, Children&#39\;s Bounce House &amp\; Activities. &nbsp\;<span style="color: rgb(255\, 0\, 0)\;"> Music by Paradise 56!!</span><br />\nSponsored By: &nbsp\; Rustic Mountain Decor\, Computer Repair Solutions &amp\; Paradise Music\, Glow Hair Salon (New Ownership)\, Avadanian &amp\; Associates\, Sleep USA Mattress and Blimpie&#39\;s.
LOCATION:Hillcrest Plaza\, 294 Blairsville\, GA Off of 515
UID:e.256.59454
SEQUENCE:3
DTSTAMP:20260420T112734Z
URL:https://members.visitblairsvillega.com/events/details/fall-open-house-hillcrest-plaza-59454
END:VEVENT

END:VCALENDAR
