BEGIN:VCALENDAR
VERSION:2.0
PRODID:-//ChamberMaster//Event Calendar 2.0//EN
METHOD:PUBLISH
X-PUBLISHED-TTL:P3D
REFRESH-INTERVAL:P3D
CALSCALE:GREGORIAN
BEGIN:VEVENT
DTSTART:20150911T130000Z
DTEND:20150911T210000Z
X-MICROSOFT-CDO-ALLDAYEVENT:FALSE
SUMMARY:Fall Plein Air Event
DESCRIPTION:Come paint\, sketch or pastel your own rendition of local scenery or in the North Georgia Mountains. With fall colors on display\, you won't want to miss this wonderful opportunity to capture local scenery.
X-ALT-DESC;FMTTYPE=text/html:<span style="font-size: 12pt\;"><span style="font-family: adobe caslon pro bold\,serif\;">Come paint\, sketch or pastel your own rendition of local scenery or in the North Georgia Mountains. With fall colors on display\, you won&#39\;t want to miss this wonderful opportunity to capture local scenery.</span></span>
LOCATION:The Art Center (Blue Ridge Mountains Arts Association) 420 West Main Street Blue Ridge\, GA 30513
UID:e.256.39662
SEQUENCE:3
DTSTAMP:20260423T133205Z
URL:https://members.visitblairsvillega.com/events/details/fall-plein-air-event-09-11-2015-39662
END:VEVENT

END:VCALENDAR
