BEGIN:VCALENDAR
VERSION:2.0
PRODID:-//ChamberMaster//Event Calendar 2.0//EN
METHOD:PUBLISH
X-PUBLISHED-TTL:P3D
REFRESH-INTERVAL:P3D
CALSCALE:GREGORIAN
BEGIN:VEVENT
DTSTART:20151010T140000Z
DTEND:20151010T220000Z
X-MICROSOFT-CDO-ALLDAYEVENT:FALSE
SUMMARY:Fall Plein Air Exhibit
DESCRIPTION:Come enjoy a spectacular exhibit filled wih images from local scenery painted during our Fall Plein Air Event.
X-ALT-DESC;FMTTYPE=text/html:<span style="font-size: 12px\;"><span style="font-family: verdana\,sans-serif\;"><span style="color: black\;">Come enjoy a spectacular exhibit filled wih images from local scenery painted during our Fall Plein Air Event.</span></span></span><br>\n&nbsp\;
LOCATION:The Art Center (Blue Ridge Mountains Arts Association) 420 West Main Street Blue Ridge\, GA 30513
UID:e.256.39690
SEQUENCE:3
DTSTAMP:20260423T102209Z
URL:https://members.visitblairsvillega.com/events/details/fall-plein-air-exhibit-10-10-2015-39690
END:VEVENT

END:VCALENDAR
