BEGIN:VCALENDAR
VERSION:2.0
PRODID:-//ChamberMaster//Event Calendar 2.0//EN
METHOD:PUBLISH
X-PUBLISHED-TTL:P3D
REFRESH-INTERVAL:P3D
CALSCALE:GREGORIAN
BEGIN:VEVENT
DTSTART:20140913T130000Z
DTEND:20140913T210000Z
X-MICROSOFT-CDO-ALLDAYEVENT:FALSE
SUMMARY:Fall Plein Air International Paint Out
DESCRIPTION:Come paint\, sketch or pastel your own rendition of local scenery or in the North Georgia Mountains. With fall colors on display\, you won't want to miss this wonderful opportunity to capture local scenery\, or simply come enjoy the exhibit.  Exhibit on display September 15-October 12.
X-ALT-DESC;FMTTYPE=text/html:<span style="font-size: 12pt\;"><span style="font-family: adobe caslon pro bold\,serif\;">Come paint\, sketch or pastel your own rendition of local scenery or in the North Georgia Mountains. With fall colors on display\, you won&rsquo\;t want to miss this wonderful opportunity to capture local scenery\, or simply come enjoy the exhibit.&nbsp\; Exhibit on display September 15-October 12.</span></span><br />\n<br type="_moz" />\n
LOCATION:Blue Ridge Mountains Arts Association (The Art Center) 420 West Main Street Blue Ridge\, GA 30513
UID:e.256.22829
SEQUENCE:3
DTSTAMP:20260424T063048Z
URL:https://members.visitblairsvillega.com/events/details/fall-plein-air-international-paint-out-09-13-2014-22829
END:VEVENT

END:VCALENDAR
