BEGIN:VCALENDAR
VERSION:2.0
PRODID:-//ChamberMaster//Event Calendar 2.0//EN
METHOD:PUBLISH
X-PUBLISHED-TTL:P3D
REFRESH-INTERVAL:P3D
CALSCALE:GREGORIAN
BEGIN:VEVENT
DTSTART:20161026T160000Z
DTEND:20161026T210000Z
X-MICROSOFT-CDO-ALLDAYEVENT:FALSE
SUMMARY:Fall Stained Glass Workshop
DESCRIPTION:This workshop will teach the students the process of making a stained glass piece\, sun catcher size.  The class will be geared toward fall related projects.  The teacher will offer patterns and glass to choose from for your project.  The class will cover scoring\, breaking\, grinding\, boiling\, soldering\, use of patina and polishing.  Students will take home their one of a kind finished stain glass piece.  There is a Supply List including the following\; Safety Glasses\, pen or pencil and a black sharpie.  It is important to wear closed heel and toe shoes.
X-ALT-DESC;FMTTYPE=text/html:<span style="font-size:14pt"><span style="font-family:garamond\,serif"><span style="color:black">This workshop will teach the students the process of making a stained glass piece\, sun catcher size.&nbsp\; The class will be geared toward fall related projects.&nbsp\; The teacher will offer patterns and glass to choose from for your project.&nbsp\; The class will cover scoring\, breaking\, grinding\, boiling\, soldering\, use of patina and polishing.&nbsp\; Students will take home their one of a kind finished stain glass piece.&nbsp\; There is a Supply List including the following\; Safety Glasses\, pen or pencil and a black sharpie.&nbsp\; It is important to wear closed heel and toe shoes.</span></span></span><br />\n&nbsp\;
LOCATION:The Art Center 420 West Main Street Blue Ridge\, GA 30513
UID:e.256.59466
SEQUENCE:3
DTSTAMP:20260420T125447Z
URL:https://members.visitblairsvillega.com/events/details/fall-stained-glass-workshop-59466
END:VEVENT

END:VCALENDAR
