BEGIN:VCALENDAR
VERSION:2.0
PRODID:-//ChamberMaster//Event Calendar 2.0//EN
METHOD:PUBLISH
X-PUBLISHED-TTL:P3D
REFRESH-INTERVAL:P3D
CALSCALE:GREGORIAN
BEGIN:VEVENT
DTSTART:20150918T230000Z
DTEND:20150919T010000Z
X-MICROSOFT-CDO-ALLDAYEVENT:FALSE
SUMMARY:Fall Wine Dinner at Hightower Creek Vineyards
DESCRIPTION:Mark your calendars for our Fall Wine Dinner on Friday\, September 18.\n\n\n\nChef Karl Engelmann of Epic Catering has created a five-course menu highlighting seasonal flavors paired with Hightower Creek Vineyards wine. The menu looks incredible and seats are filling up fast!\n\n \n\nEpiphany 2014\nPassed Hors d' oeuvres of: Tomato Tartare on Pumpernickel Toast and Romano\, Deviled Egg with Candied Bacon\, and Pickled Okra Wrapped in Sopressata\n\n \n\nRed Clay Rose 2014\n\nSalad of Fennel and Endive Apples\, Brie Cheese and Raspberries\, Grapefruit Vinaigrette\n\n \n\nChatuga Red 2014\n\nPork Confit Empanada with Collards and Orange Chili "BBQ Sauce"\n\n \n\nDeliverance\n\nGrilled NY Strip with Basil Spaghetti Squash and Roasted Radish\n\n \n\nDueling Banjos Peach\n\nGoat Cheese Cheesecake\, Caramel Cracker Crust with Plum Compote\n\n \n\n35 seats available. \n\nTo reserve\, call 706-896-8963 or email info@hightowercreekvineyards.com
X-ALT-DESC;FMTTYPE=text/html:<h4><span style="background-color:rgba(255\, 255\, 255\, 0)">Mark your calendars for our&nbsp\;<a href="http://hightowercreekvineyards.us5.list-manage.com/track/click?u=3deb756fe044ac66bfb10f5c6&amp\;id=7bf3abe340&amp\;e=82690a5de4" style="word-wrap: break-word\;" target="_blank">Fall Wine Dinner</a>&nbsp\;on Friday\, September 18.<br />\n<br />\nChef Karl Engelmann of Epic Catering has created a&nbsp\;<a href="http://hightowercreekvineyards.us5.list-manage.com/track/click?u=3deb756fe044ac66bfb10f5c6&amp\;id=beae1dc1e8&amp\;e=82690a5de4" style="word-wrap: break-word\;" target="_blank">five-course menu</a>&nbsp\;highlighting seasonal flavors paired with Hightower Creek Vineyards wine. The menu looks incredible and seats are filling up fast!</span></h4>\n\n<div>&nbsp\;</div>\n\n<h4><span style="background-color:rgba(255\, 255\, 255\, 0)">Epiphany 2014</span></h4>\n<span style="background-color:rgba(255\, 255\, 255\, 0)\; color:rgba(0\, 0\, 0\, 0.701961)\; font-family:uictfonttextstylebody\; font-size:17px">Passed Hors d&rsquo\; oeuvres of: Tomato Tartare on Pumpernickel Toast and Romano\, Deviled Egg with Candied Bacon\, and Pickled Okra Wrapped in Sopressata</span>\n\n<div>&nbsp\;</div>\n\n<div><span style="background-color:rgba(255\, 255\, 255\, 0)"><strong>Red Clay Rose 2014</strong></span></div>\n\n<div><span style="background-color:rgba(255\, 255\, 255\, 0)">Salad of Fennel and Endive Apples\, Brie Cheese and Raspberries\, Grapefruit Vinaigrette</span></div>\n\n<div>&nbsp\;</div>\n\n<div><span style="background-color:rgba(255\, 255\, 255\, 0)"><strong>Chatuga Red 2014</strong></span></div>\n\n<div><span style="background-color:rgba(255\, 255\, 255\, 0)">Pork Confit Empanada with Collards and Orange Chili &ldquo\;BBQ Sauce&rdquo\;</span></div>\n\n<div>&nbsp\;</div>\n\n<div><span style="background-color:rgba(255\, 255\, 255\, 0)"><strong>Deliverance</strong></span></div>\n\n<div><span style="background-color:rgba(255\, 255\, 255\, 0)">Grilled NY Strip with Basil Spaghetti Squash and Roasted Radish</span></div>\n\n<div>&nbsp\;</div>\n\n<div><span style="background-color:rgba(255\, 255\, 255\, 0)"><strong>Dueling Banjos Peach</strong></span></div>\n\n<div><span style="background-color:rgba(255\, 255\, 255\, 0)">Goat Cheese Cheesecake\, Caramel Cracker Crust with Plum Compote</span></div>\n\n<div>&nbsp\;</div>\n\n<div><span style="background-color:rgba(255\, 255\, 255\, 0)">35 seats available.&nbsp\;</span></div>\n\n<div><span style="background-color:rgba(255\, 255\, 255\, 0)">To reserve\, call&nbsp\;</span><a href="tel:706-896-8963" style="background-color: rgba(255\, 255\, 255\, 0)\; box-sizing: border-box\; word-wrap: break-word\; text-decoration: none\;">706-896-8963</a><span style="background-color:rgba(255\, 255\, 255\, 0)">&nbsp\;or email&nbsp\;<a href="mailto:info@hightowercreekvineyards.com">info@hightowercreekvineyards.com</a></span></div>\n
LOCATION:7150 Canaan Drive Hiawassee GA 30546
UID:e.256.43967
SEQUENCE:3
DTSTAMP:20260423T121833Z
URL:https://members.visitblairsvillega.com/events/details/fall-wine-dinner-at-hightower-creek-vineyards-09-18-2015-43967
END:VEVENT

END:VCALENDAR
