BEGIN:VCALENDAR
VERSION:2.0
PRODID:-//ChamberMaster//Event Calendar 2.0//EN
METHOD:PUBLISH
X-PUBLISHED-TTL:P3D
REFRESH-INTERVAL:P3D
CALSCALE:GREGORIAN
BEGIN:VEVENT
DTSTART:20150419T170000Z
DTEND:20150419T190000Z
X-MICROSOFT-CDO-ALLDAYEVENT:FALSE
SUMMARY:Family Discovery Dayhike at Vogel State Park
DESCRIPTION:CANCELED DUE TO RAIN FORECAST\n\nThe Georgia Appalachian Trail Club (GATC) plans to offer a leisurely Sunday afternoon for hiking with the special children in your life the afternoon of April 19\, 2015. We will meet at Vogel State Park in the early afternoon for a hike\, food and FUN. Two hikes will be offered. One is very easy\, designed for the 3-6 year olds.  A longer\, more challenging hike will be offered to the 7-12 year old children. After the hikes we will enjoy some late afternoon treats. To register please contact Babette Broussard at babettebroussard@gmail.com \, 404-231-4866 or Beth Rothermel at rothermelbeth@bellsouth.net \, 770-601-7180.
X-ALT-DESC;FMTTYPE=text/html:<span style="font-size: medium\;"><span style="font-family: calibri\;"><strong><span style="background-color: rgb(178\, 34\, 34)\;">CANCELED DUE TO RAIN FORECAST</span></strong><br />\nThe Georgia Appalachian Trail Club (GATC) plans to offer a leisurely Sunday afternoon for hiking with the special children in your life the afternoon of April 19\, 2015. We will meet at Vogel State Park in the early afternoon for a hike\, food and FUN. Two hikes will be offered. One is very easy\, designed for the 3-6 year olds.&nbsp\; A longer\, more challenging hike will be offered to the 7-12 year old children. After the hikes we will enjoy some late afternoon treats. To register please contact Babette Broussard at </span></span><a href="mailto:babettebroussard@gmail.com"><span style="font-size: medium\;"><span style="font-family: calibri\;"><span style="color: rgb(5\, 99\, 193)\;">babettebroussard@gmail.com</span></span></span></a><span style="font-size: medium\;"><span style="font-family: calibri\;"> \, 404-231-4866 or Beth Rothermel at </span></span><a href="mailto:rothermelbeth@bellsouth.net"><span style="font-size: medium\;"><span style="font-family: calibri\;"><span style="color: rgb(5\, 99\, 193)\;">rothermelbeth@bellsouth.net</span></span></span></a><span style="font-size: medium\;"><span style="font-family: calibri\;"> \, 770-601-7180.</span></span><br />\n&nbsp\;
LOCATION:Vogel State Park
UID:e.256.37914
SEQUENCE:3
DTSTAMP:20260423T200705Z
URL:https://members.visitblairsvillega.com/events/details/family-discovery-dayhike-at-vogel-state-park-04-19-2015-37914
END:VEVENT

END:VCALENDAR
