BEGIN:VCALENDAR
VERSION:2.0
PRODID:-//ChamberMaster//Event Calendar 2.0//EN
METHOD:PUBLISH
X-PUBLISHED-TTL:P3D
REFRESH-INTERVAL:P3D
CALSCALE:GREGORIAN
BEGIN:VEVENT
DTSTART:20140607T130000Z
DTEND:20140607T160000Z
X-MICROSOFT-CDO-ALLDAYEVENT:FALSE
SUMMARY:Family Fishing Festival
DESCRIPTION:The Family Fishing Festival is a free event open to youth ages 16 and under and will be held rain or shine. Bring your own fishing gear and bait and join us for an exciting morning of fishing Rock Creek for trout stocked especially for this event. There will be a scavenger hunt\, educational exhibit booths\, prizes and more!
X-ALT-DESC;FMTTYPE=text/html:The Family Fishing Festival is a free event open to youth ages 16 and under and will be held rain or shine. Bring your own fishing gear and bait and join us for an exciting morning of fishing Rock Creek for trout stocked especially for this event. There will be a scavenger hunt\, educational exhibit booths\, prizes and more!
LOCATION:Chattahoochee Forest National Fish Hatchery located on Rock Creek Road off of GA Hwy 60 near Suches\, GA. Please call for directions 706-838-4723.
UID:e.256.20582
SEQUENCE:3
DTSTAMP:20260424T105824Z
URL:https://members.visitblairsvillega.com/events/details/family-fishing-festival-06-07-2014-20582
END:VEVENT

END:VCALENDAR
