BEGIN:VCALENDAR
VERSION:2.0
PRODID:-//ChamberMaster//Event Calendar 2.0//EN
METHOD:PUBLISH
X-PUBLISHED-TTL:P3D
REFRESH-INTERVAL:P3D
CALSCALE:GREGORIAN
BEGIN:VEVENT
DTSTART:20170930T123000Z
DTEND:20170930T150000Z
X-MICROSOFT-CDO-ALLDAYEVENT:FALSE
SUMMARY:Family Hiking Day
DESCRIPTION:You and your family are invited to explore the Nottely Reservoir Trails on Saturday\, September 30th for a family friendly guided hike! The hike will be an easy to moderate 1.7 mile loop. We will meet at the Nottely Reservoir Trail Parking #2 which is located approximately 1.5 miles past Nottely Dam on the left just before Loving Road. We will meet at 8:30am and the hike will begin at 9am. This will be a fun event with stories as well as the hike.  Bring snacks and water and dress appropriately for the weather.
X-ALT-DESC;FMTTYPE=text/html:<span style="color:windowtext\;"><span style="font-family:calibri\,sans-serif\;"><span style="font-size:11.0pt\;">You and your family are invited to explore the Nottely Reservoir Trails on Saturday\, September 30<sup>th</sup> for a family friendly guided hike! The hike will be an easy to moderate 1.7 mile loop. We will meet at the Nottely Reservoir Trail Parking #2 which is located approximately 1.5 miles past Nottely Dam on the left just before Loving Road. We will meet at 8:30am and the hike will begin at 9am. This will be a fun event with stories as well as the hike.&nbsp\; Bring snacks and water and dress appropriately for the weather.</span></span></span>
LOCATION:Nottely Reservoir Trail Parking Lot #2
UID:e.256.76007
SEQUENCE:3
DTSTAMP:20260419T192910Z
URL:https://members.visitblairsvillega.com/events/details/family-hiking-day-76007
END:VEVENT

END:VCALENDAR
