BEGIN:VCALENDAR
VERSION:2.0
PRODID:-//ChamberMaster//Event Calendar 2.0//EN
METHOD:PUBLISH
X-PUBLISHED-TTL:P3D
REFRESH-INTERVAL:P3D
CALSCALE:GREGORIAN
BEGIN:VEVENT
DTSTART:20151114T200000Z
DTEND:20151115T010000Z
X-MICROSOFT-CDO-ALLDAYEVENT:FALSE
SUMMARY:Family Movie Night
DESCRIPTION:Free Family Movie Night at Meeks Park featuring "The Polar Express".  All children must be accompanied by an adult.  Bring your chairs and blankets!!  There will be a bounce house and slides and refreshments will include Popcorn\, cotton candy and hot dogs.
X-ALT-DESC;FMTTYPE=text/html:Free Family Movie Night at Meeks Park featuring &quot\;The Polar Express&quot\;.&nbsp\; All children must be accompanied by an adult.&nbsp\; Bring your chairs and blankets!!&nbsp\;&nbsp\;There will be a bounce house and&nbsp\;slides and refreshments will include Popcorn\, cotton candy and hot dogs.
LOCATION:Meeks Park in Blairsville Ga.
UID:e.256.45017
SEQUENCE:3
DTSTAMP:20260423T085704Z
URL:https://members.visitblairsvillega.com/events/details/family-movie-night-11-14-2015-45017
END:VEVENT

END:VCALENDAR
