BEGIN:VCALENDAR
VERSION:2.0
PRODID:-//ChamberMaster//Event Calendar 2.0//EN
METHOD:PUBLISH
X-PUBLISHED-TTL:P3D
REFRESH-INTERVAL:P3D
CALSCALE:GREGORIAN
BEGIN:VEVENT
DTSTART;VALUE=DATE:20140628
DTEND;VALUE=DATE:20140629
TRANSP:TRANSPARENT
X-MICROSOFT-CDO-ALLDAYEVENT:TRUE
SUMMARY:Family-Pet Photograpy
DESCRIPTION:Family - Pet Photography\n\nJune 28\, 2014\n\nDogs: 8 - 12pm at Meeks Park Dog Park\n\nCats & other species: 1 - 4pm  at Enotah CAFVC 104 Pleasant Hill Rd Blairsville\, GA\n\nCost: by donation\n\nYou will receive a 1-pose 5X7 that will be mailed or emailed to you. All photo rights will remain with the recipient.\n\n *additional picture CD available for  purchase\n\n\n\nFor the safety & comfort of your pet and others\, please leash or crate your pet on arrival to the photo site.\n\n\n\nFamily - Pet Photography proceeds to benefit the Enotah Child Advocacy & Family Visitation Center and its parent company Support in abusive Family Emergencies\, Inc. (S.A.F.E.)
X-ALT-DESC;FMTTYPE=text/html:<strong>Family - Pet Photography</strong><br />\nJune 28\, 2014<br />\n<strong>Dogs: 8 - 12pm at&nbsp\;Meeks Park Dog Park<br />\nCats &amp\; other species: 1 - 4pm&nbsp\; at Enotah CAFVC 104 Pleasant Hill Rd Blairsville\, GA</strong><br />\nCost: by donation<br />\nYou will receive a 1-pose 5X7 that will be mailed or emailed to you. All photo rights will remain with the recipient.<br />\n&nbsp\;*additional picture CD available for&nbsp\; purchase<br />\n<br />\nFor the safety &amp\; comfort of your pet and others\, please leash or crate your pet on arrival to the photo site.<br />\n<br />\nFamily - Pet Photography proceeds to benefit the Enotah Child Advocacy &amp\; Family Visitation Center and its parent company Support in abusive Family Emergencies\, Inc. (S.A.F.E.)
LOCATION:Dogs: 8 - 12pm Meeks Park Dog Park Cats & other species: 1 -4pm Enotah CAFVC 104 Pleasant Hill Rd Blairsville\, GA
UID:e.256.24861
SEQUENCE:3
DTSTAMP:20260424T105531Z
URL:https://members.visitblairsvillega.com/events/details/family-pet-photograpy-06-28-2014-24861
END:VEVENT

END:VCALENDAR
