BEGIN:VCALENDAR
VERSION:2.0
PRODID:-//ChamberMaster//Event Calendar 2.0//EN
METHOD:PUBLISH
X-PUBLISHED-TTL:P3D
REFRESH-INTERVAL:P3D
CALSCALE:GREGORIAN
BEGIN:VEVENT
DTSTART:20160225T123000Z
DTEND:20160225T210000Z
X-MICROSOFT-CDO-ALLDAYEVENT:FALSE
SUMMARY:Farm Business Education Conference
DESCRIPTION:Presented by The University of Georgia UGA SBDC\, UGA Extension and UGA College of Agriculture and Environmental Sciences\n\nOne size does not fit all in the agriculture business.  This conference allows participants to choose the topics that matter most to them.  Choose from 3 tracks to meet individual needs.  Throughout the day\, our experts will conduct sessions on topics relevant to both commercial farmers and value-added agricultural ventures\, including:  1) Forecasting Cash Flow\; 2) Agritourism as Value Added Income\; 3) Considerations to Begin Transition\; 4) Managing Risk in Farming\; 5) Getting Your Food Product to Market\; 7) Funding Options & Expectations\; 8) HR Solutions for Agribusiness\; 9) Managing Margins with Enterprise Budgets\; 10) Creating a Comprehensive Market Strategy\; 11) Exporting to Reach New Customers Worldwide. \n\nSuccessful farmers are first and foremost business people.  Conference participants will take home a better understanding of business concepts that they can apply to any agricultural operation.
X-ALT-DESC;FMTTYPE=text/html:<strong>Presented by The University of Georgia UGA SBDC\, UGA Extension and UGA College of Agriculture and Environmental Sciences</strong><br />\nOne size does not fit all in the agriculture business.&nbsp\; This conference allows participants to choose the topics that matter most to them.&nbsp\; Choose from 3 tracks to meet individual needs.&nbsp\; Throughout the day\, our experts will conduct sessions on topics relevant to both commercial farmers and value-added agricultural ventures\, including:&nbsp\; 1) Forecasting Cash Flow\; 2) Agritourism as Value Added Income\; 3) Considerations to Begin Transition\; 4) Managing Risk in Farming\; 5) Getting Your Food Product to Market\; 7) Funding Options &amp\; Expectations\; 8) HR Solutions for Agribusiness\; 9) Managing Margins with Enterprise Budgets\; 10) Creating a Comprehensive Market Strategy\; 11) Exporting to Reach New Customers Worldwide.&nbsp\;<br />\nSuccessful farmers are first and foremost business people.&nbsp\; Conference participants will take home a better understanding of business concepts that they can apply to any agricultural operation.
LOCATION:UGA Tifton Conference Center 15 RDC Road Tifton\, GA 31794
UID:e.256.48315
SEQUENCE:3
DTSTAMP:20260421T040300Z
URL:https://members.visitblairsvillega.com/events/details/farm-business-education-conference-02-25-2016-48315
END:VEVENT

END:VCALENDAR
