BEGIN:VCALENDAR
VERSION:2.0
PRODID:-//ChamberMaster//Event Calendar 2.0//EN
METHOD:PUBLISH
X-PUBLISHED-TTL:P3D
REFRESH-INTERVAL:P3D
CALSCALE:GREGORIAN
BEGIN:VEVENT
DTSTART:20170623T120000Z
DTEND:20170623T170000Z
X-MICROSOFT-CDO-ALLDAYEVENT:FALSE
SUMMARY:Farmers Daughters yard sale
DESCRIPTION:outside yard sale/craft sale from different vendors. You never know what you might find.
X-ALT-DESC;FMTTYPE=text/html:outside yard sale/craft sale from different vendors. You never know what you might find.
LOCATION:3347 Highway 515 East\, Blairsville
UID:e.256.74188
SEQUENCE:3
DTSTAMP:20260420T004300Z
URL:https://members.visitblairsvillega.com/events/details/farmers-daughters-yard-sale-74188
END:VEVENT

END:VCALENDAR
