BEGIN:VCALENDAR
VERSION:2.0
PRODID:-//ChamberMaster//Event Calendar 2.0//EN
METHOD:PUBLISH
X-PUBLISHED-TTL:P3D
REFRESH-INTERVAL:P3D
CALSCALE:GREGORIAN
BEGIN:VEVENT
DTSTART:20150623T220000Z
DTEND:20150624T000000Z
X-MICROSOFT-CDO-ALLDAYEVENT:FALSE
SUMMARY:Farmers Market General Auction
DESCRIPTION:The Farmers Market will be having a general auction every Tuesday evening. Bring your own chair and come see all the items available.
X-ALT-DESC;FMTTYPE=text/html:The Farmers Market will be having a general auction every Tuesday evening. Bring your own chair and come see all the items available.
LOCATION:Union County Farmers Market Building C 148 Old Smokey Rd. Blairsville\, GA
UID:e.256.40383
SEQUENCE:3
DTSTAMP:20260423T182657Z
URL:https://members.visitblairsvillega.com/events/details/farmers-market-general-auction-06-23-2015-40383
END:VEVENT

END:VCALENDAR
