BEGIN:VCALENDAR
VERSION:2.0
PRODID:-//ChamberMaster//Event Calendar 2.0//EN
METHOD:PUBLISH
X-PUBLISHED-TTL:P3D
REFRESH-INTERVAL:P3D
CALSCALE:GREGORIAN
BEGIN:VEVENT
DTSTART:20140615T160000Z
DTEND:20140615T210000Z
X-MICROSOFT-CDO-ALLDAYEVENT:FALSE
SUMMARY:Father's Day at Hightower Creek Vineyards
DESCRIPTION:Happy Fathers Day! Free tastings for the fathers today! We are open from 12-5pm
X-ALT-DESC;FMTTYPE=text/html:Happy Fathers Day! Free tastings for the fathers today! We are open from 12-5pm
LOCATION:7150 Canaan Drive Hiawassee\, GA 30546
UID:e.256.24605
SEQUENCE:3
DTSTAMP:20260424T121958Z
URL:https://members.visitblairsvillega.com/events/details/father-s-day-at-hightower-creek-vineyards-06-15-2014-24605
END:VEVENT

END:VCALENDAR
