BEGIN:VCALENDAR
VERSION:2.0
PRODID:-//ChamberMaster//Event Calendar 2.0//EN
METHOD:PUBLISH
X-PUBLISHED-TTL:P3D
REFRESH-INTERVAL:P3D
CALSCALE:GREGORIAN
BEGIN:VEVENT
DTSTART:20160527T230000Z
DTEND:20160528T000000Z
X-MICROSOFT-CDO-ALLDAYEVENT:FALSE
SUMMARY:Feel Good Friday
DESCRIPTION:The last Friday of every month explore the latest ideas and techniques that bring us happiness\, community\, sustainability and more.\n\n\nSee videos with ideas from some of the finest minds in the world.\n\nLearn techniques to quiet the mind and access creativity. Experience how you can change.
X-ALT-DESC;FMTTYPE=text/html:The last Friday of&nbsp\;every month explore the latest ideas and techniques that bring us happiness\, c<span class="text_exposed_show">ommunity\, sustainability and more.</span>\n\n<div class="text_exposed_show">\n<p>See videos with ideas from some of the finest minds in the world.<br />\nLearn techniques to quiet the mind and access creativity. Experience how you can change.</p>\n</div>\n
LOCATION:Natural Treatments for Brain and Body 64 Bracketts Way\, Suite 9 Blairsville\, GA 30512
UID:e.256.50930
SEQUENCE:3
DTSTAMP:20260420T222404Z
URL:https://members.visitblairsvillega.com/events/details/feel-good-friday-05-27-2016-50930
END:VEVENT

END:VCALENDAR
