BEGIN:VCALENDAR
VERSION:2.0
PRODID:-//ChamberMaster//Event Calendar 2.0//EN
METHOD:PUBLISH
X-PUBLISHED-TTL:P3D
REFRESH-INTERVAL:P3D
CALSCALE:GREGORIAN
BEGIN:VEVENT
DTSTART:20160416T133000Z
DTEND:20160416T203000Z
X-MICROSOFT-CDO-ALLDAYEVENT:FALSE
SUMMARY:Festival of Christian Unity
DESCRIPTION:Festival of Christian Unity - a local multi-denominational team in consultation with pastors. Christian churches\, mission\, ministries\, and organizations will be involved. Come and join together in Jesus to share God's love.\n\n\n\nA first-time opportunity to discover and talk with those serving needs of others in our area for many years.\n\n \n\nEnjoy Christian music\, arts & crafts\, food\, drinks\, baked goods\, prayer tent\, children's activities\, Christian book store\, mission crafts\, youth activities\, and more!\n\n \n\n*Confirmed Music groups:\n\n \n\n	The Band Kelley\, Appling GA\n	Glorybound Quartet\, Canton\, GA\n	Shelia Reed\, Dalton\, GA\n	Hearts of Faith\, from Ohio\n	David Smith\, West Liberty\, KY\n	The Bread of Life Singers\, Afton\, TN
X-ALT-DESC;FMTTYPE=text/html:Festival of Christian Unity - a local multi-denominational team in consultation with pastors. Christian churches\, mission\, ministries\, and organizations will be involved. Come and join together in Jesus to share God&#39\;s love.<br />\n<br />\nA first-time opportunity to discover and talk with those serving needs of others in our area for many years.<br />\n&nbsp\;<br />\nEnjoy Christian music\, arts &amp\; crafts\, food\, drinks\, baked goods\, prayer tent\, children&#39\;s activities\, Christian book store\, mission crafts\, youth activities\, and more!<br />\n&nbsp\;<br />\n<span id="yui_3_16_0_1_1449430902322_6009"><span style="font-size: 10pt\;"><span style="font-family: calibri\,sans-serif\;"><span style="color: black\;">*Confirmed Music groups:</span></span></span></span><br />\n&nbsp\;\n<ul>\n	<li id="yui_3_16_0_1_1449430902322_6792" style="background: white\; color: black\;"><span id="yui_3_16_0_1_1449430902322_6009"><span style="font-size: 10pt\;"><span style="font-family: helvetica\,sans-serif\;"><span id="yui_3_16_0_1_1449430902322_5551">The Band Kelley\, Appling GA</span></span></span></span></li>\n	<li id="yui_3_16_0_1_1449430902322_6796" style="background: white\; color: black\;"><span id="yui_3_16_0_1_1449430902322_6009"><span style="font-size: 10pt\;"><span style="font-family: helvetica\,sans-serif\;"><span id="yui_3_16_0_1_1449430902322_5554">Glorybound Quartet\, Canton\, GA</span></span></span></span></li>\n	<li id="yui_3_16_0_1_1449430902322_6966" style="background: white\; color: black\;"><span id="yui_3_16_0_1_1449430902322_6009"><span style="font-size: 10pt\;"><span style="font-family: helvetica\,sans-serif\;"><span id="yui_3_16_0_1_1449430902322_5557">Shelia Reed\, Dalton\, GA</span></span></span></span></li>\n	<li id="yui_3_16_0_1_1449430902322_6965" style="background: white\; color: black\;"><span id="yui_3_16_0_1_1449430902322_6009"><span style="font-size: 10pt\;"><span style="font-family: helvetica\,sans-serif\;"><span id="yui_3_16_0_1_1449430902322_5560">Hearts of Faith\, from Ohio</span></span></span></span></li>\n	<li id="yui_3_16_0_1_1449430902322_6967" style="background: white\; color: black\;"><span id="yui_3_16_0_1_1449430902322_6009"><span style="font-size: 10pt\;"><span style="font-family: helvetica\,sans-serif\;"><span id="yui_3_16_0_1_1449430902322_5563">David Smith\, West Liberty\, KY</span></span></span></span></li>\n	<li id="yui_3_16_0_1_1449430902322_6794" style="background: white\; color: black\;"><span id="yui_3_16_0_1_1449430902322_6009"><span style="font-size: 10pt\;"><span style="font-family: helvetica\,sans-serif\;">T<span id="yui_3_16_0_1_1449430902322_5565">he Bread of Life Singers\, Afton</span><span id="yui_3_16_0_1_1449430902322_5566">\, </span><span id="yui_3_16_0_1_1449430902322_5567">TN</span></span></span></span></li>\n</ul>\n
LOCATION:Union County Farmers Market
UID:e.256.45165
SEQUENCE:3
DTSTAMP:20260421T022151Z
URL:https://members.visitblairsvillega.com/events/details/festival-of-christian-unity-04-16-2016-45165
END:VEVENT

END:VCALENDAR
