BEGIN:VCALENDAR
VERSION:2.0
PRODID:-//ChamberMaster//Event Calendar 2.0//EN
METHOD:PUBLISH
X-PUBLISHED-TTL:P3D
REFRESH-INTERVAL:P3D
CALSCALE:GREGORIAN
BEGIN:VEVENT
DTSTART:20161105T233000Z
DTEND:20161106T013000Z
X-MICROSOFT-CDO-ALLDAYEVENT:FALSE
SUMMARY:Fiddler on the Roof\, the Musical
DESCRIPTION:Set in the little village of Anatevka\, the story centers on Tevye\, a poor dairyman\, and his five daughters. With the help of a colorful and tight-knit Jewish community\, Tevye tries to protect his daughters and instill them with traditional values in the face of changing social mores and the growing anti-Semitism of Czarist Russia. Rich in historical and ethnic detail\, Fiddler On The Roof's universal theme of tradition cuts across barriers of race\, class\, nationality and religion\, leaving audiences crying tears of laughter\, joy and sadness. A don't miss\, Broadway classic for all ages. Presented by the Overlook Theatre Company
X-ALT-DESC;FMTTYPE=text/html:Set in the little village of Anatevka\, the story centers on Tevye\, a poor dairyman\, and his five daughters. With the help of a colorful and tight-knit Jewish community\, Tevye tries to protect his daughters and instill them with traditional values in the face of changing social mores and the growing anti-Semitism of Czarist Russia. Rich in historical and ethnic detail\, Fiddler On The Roof's universal theme of tradition cuts across barriers of race\, class\, nationality and religion\, leaving audiences crying tears of laughter\, joy and sadness. A don't miss\, Broadway classic for all ages. Presented by the Overlook Theatre Company
LOCATION:Smoky Mountain Center for the Performing Arts 1028 Georgia Road Franklin\, NC 28734
UID:e.256.49429
SEQUENCE:3
DTSTAMP:20260420T113304Z
URL:https://members.visitblairsvillega.com/events/details/fiddler-on-the-roof-the-musical-11-05-2016-49429
END:VEVENT

END:VCALENDAR
