BEGIN:VCALENDAR
VERSION:2.0
PRODID:-//ChamberMaster//Event Calendar 2.0//EN
METHOD:PUBLISH
X-PUBLISHED-TTL:P3D
REFRESH-INTERVAL:P3D
CALSCALE:GREGORIAN
BEGIN:VEVENT
DTSTART:20140726T160000Z
DTEND:20140726T160000Z
X-MICROSOFT-CDO-ALLDAYEVENT:FALSE
SUMMARY:Fine Art Show
DESCRIPTION:Glass\, gems\, acrylics\, ceramics\, oils\, pastels and photos Fine Art Show\n\nJuly 26 and 27\, 2014\n\nSaturday\, 10am - 5pm\n\nSunday\, 11am - 4pm\n\n1159 Main Street\, Young Harris\, GA\n\ndiagonally across from Sharp Memorial Church\n\nCarol Duckworth (Blairsville\, GA) is an accomplished artist in acrylics\, pastels\, watercolor\, oil\, and collage. She currently serves as a judge for art shows and local festivals.\n\nPhotographer Vicki Fox (Marietta\, GA) shoots using her camera's eye "as witness to the endless lifecycle loop of decomposition and regeneration in the dynamic park adjacent to the Chattahoochee River". This is her first public exhibition.\n\nDavid Goldhagen (Hayesville\, NC) is a national\, award winning art glass sculptor. He joins this group of fine artists to present his newest designs with fused glass.\n\nLinda Rubenstein (Hiawassee\, GA)\, the show's organizer\, is an American Impressionist palette knife painter specializing in color and light of local landscapes.\n\nEstelle Schwarz (Hiawassee\, GA) is a well known painter of beloved pets in pastels and gorgeous landscapes who attended Parson's School of Design on a national\, competitive scholarship. See her website www.wagsnwhiskers.biz to see her stunning animal portraits.\n\nJanet Smith (Jasper\, GA) has been forming Raku pieces since 1998 to express her inner spiritual love of abstract art.\n\nAnne Wing (Acworth\, GA) designs one of a kind jewelry pieces from found precious stones and metals creating unforgettable collector's wearable art. Her entry into jewelry design began with its repair and so she found a practical way to improve her stone setting skills.
X-ALT-DESC;FMTTYPE=text/html:Glass\, gems\, acrylics\, ceramics\, oils\, pastels and photos Fine Art Show<br />\nJuly 26 and 27\, 2014<br />\nSaturday\, 10am&nbsp\;- 5pm<br />\nSunday\, 11am&nbsp\;- 4pm<br />\n1159 Main Street\, Young Harris\, GA<br />\ndiagonally across from Sharp Memorial Church<br />\nCarol Duckworth (Blairsville\, GA) is an accomplished artist in acrylics\, pastels\, watercolor\, oil\, and collage. She currently serves as a judge for art shows and local festivals.<br />\nPhotographer Vicki Fox (Marietta\, GA) shoots using her camera&#39\;s eye &quot\;as witness to the endless lifecycle loop of decomposition and regeneration in the dynamic park adjacent to the Chattahoochee River&quot\;. This is her first public exhibition.<br />\nDavid Goldhagen (Hayesville\, NC) is a national\, award winning art glass sculptor. He joins this group of fine artists to present his newest designs with fused glass.<br />\nLinda Rubenstein (Hiawassee\, GA)\, the show&#39\;s organizer\, is an American Impressionist palette knife painter specializing in color and light of local landscapes.<br />\nEstelle Schwarz (Hiawassee\, GA) is a well known painter of beloved pets in pastels and gorgeous landscapes who attended Parson&#39\;s School of Design on a national\, competitive scholarship. See her website www.wagsnwhiskers.biz to see her stunning animal portraits.<br />\nJanet Smith (Jasper\, GA) has been forming Raku pieces since 1998 to express her inner spiritual love of abstract art.<br />\nAnne Wing (Acworth\, GA) designs one of a kind jewelry pieces from found precious stones and metals creating unforgettable collector&#39\;s wearable art. Her entry into jewelry design began with its repair and so she found a practical way to improve her stone setting skills.
LOCATION:1159 Main Street\, Young Harris\, GA diagonally across from Sharp Memorial Church
UID:e.256.25456
SEQUENCE:3
DTSTAMP:20260424T091654Z
URL:https://members.visitblairsvillega.com/events/details/fine-art-show-07-26-2014-25456
END:VEVENT

END:VCALENDAR
