BEGIN:VCALENDAR
VERSION:2.0
PRODID:-//ChamberMaster//Event Calendar 2.0//EN
METHOD:PUBLISH
X-PUBLISHED-TTL:P3D
REFRESH-INTERVAL:P3D
CALSCALE:GREGORIAN
BEGIN:VEVENT
DTSTART:20140307T160000Z
DTEND:20140308T013000Z
X-MICROSOFT-CDO-ALLDAYEVENT:FALSE
SUMMARY:Firefighter/Police Week At Ollies
DESCRIPTION:25 % off lunch or dinner for Blairsville and Union County Police and Fire-Fighters and Spouses.
X-ALT-DESC;FMTTYPE=text/html:25 % off lunch or dinner for Blairsville and Union County Police and Fire-Fighters and Spouses.
LOCATION:Ollie's Grill & Smokehouse 94 Town Square Blairsville\, GA 30512
UID:e.256.23251
SEQUENCE:3
DTSTAMP:20260424T152147Z
URL:https://members.visitblairsvillega.com/events/details/firefighter-police-week-at-ollies-03-07-2014-23251
END:VEVENT

END:VCALENDAR
