BEGIN:VCALENDAR
VERSION:2.0
PRODID:-//ChamberMaster//Event Calendar 2.0//EN
METHOD:PUBLISH
X-PUBLISHED-TTL:P3D
REFRESH-INTERVAL:P3D
CALSCALE:GREGORIAN
BEGIN:VEVENT
DTSTART:20131208T150000Z
DTEND:20131208T220000Z
X-MICROSOFT-CDO-ALLDAYEVENT:FALSE
SUMMARY:Fireside Sale
DESCRIPTION:Enjoy the ambiance of live holiday music and a crackling fire as you shop for artful treasures in our beautifully decorated Keith House and visit the artists in Davidson Hall (next to the Craft Shop). Craftspeople will offer handmade items such as jewelry\, weaving\, forged iron\, photography\, quilts and turned wood. You're sure to find special\, one-of-a-kind holiday gifts here!  Also\, our Craft Shop will be offering 15% off during the Fireside Sale. The 15% off sale will last from November 25 to December 24. Shop for handmade gifts made by local and regional artists in a variety of media including jewelry\, fiber\, wood items\, forged metal\, pottery\, and more.
X-ALT-DESC;FMTTYPE=text/html:<!--StartFragment-->\n<p class="MsoNormal">\n	<span style="font-size: 13pt\; mso-bidi-font-family: arial\;">Enjoy the ambiance of live holiday music and a crackling fire as you shop for artful treasures in our beautifully decorated Keith House and visit the artists in Davidson Hall (next to the Craft Shop). Craftspeople will offer handmade items such as jewelry\, weaving\, forged iron\, photography\, quilts and turned wood. You&#39\;re sure to find special\, one-of-a-kind holiday gifts here!&#8232\;&#8232\;Also\, our Craft Shop will be offering 15% off during the </span><a href="https://www.folkschool.org/event.php?event_type_id=15&amp\;event_id=13"><span style="color: rgb(58\, 101\, 133)\; font-size: 13pt\; text-decoration: none\; mso-bidi-font-family: arial\; text-underline: none\;">Fireside Sale</span></a><span style="font-size: 13pt\; mso-bidi-font-family: arial\;">. The 15% off sale will last from November 25 to December 24. Shop for handmade gifts made by local and regional artists in a variety of media including jewelry\, fiber\, wood items\, forged metal\, pottery\, and more.<o:p></o:p></span></p>\n<!--EndFragment-->
LOCATION:John C. Campbell Folk School
UID:e.256.17291
SEQUENCE:3
DTSTAMP:20260424T194144Z
URL:https://members.visitblairsvillega.com/events/details/fireside-sale-12-08-2013-17291
END:VEVENT

END:VCALENDAR
