BEGIN:VCALENDAR
VERSION:2.0
PRODID:-//ChamberMaster//Event Calendar 2.0//EN
METHOD:PUBLISH
X-PUBLISHED-TTL:P3D
REFRESH-INTERVAL:P3D
CALSCALE:GREGORIAN
BEGIN:VEVENT
DTSTART:20150705T010000Z
DTEND:20150705T020000Z
X-MICROSOFT-CDO-ALLDAYEVENT:FALSE
SUMMARY:Fireworks Show at Brasstown Valley Resort
DESCRIPTION:Brasstown Valley Resort Young Harris Viewing on the Golf Course /Hwy 76 Begins at Dark Free Parking - No Charge to Attend Bring blankets & lawn chairs. Beverages and Snacks will be available for purchase. NO PERSONAL COOLERS OR PETS ARE ALLOWED ON THE GOLF COURSE. Contact: 706-379-4606 for more information
X-ALT-DESC;FMTTYPE=text/html:Brasstown Valley Resort Young Harris Viewing on the Golf Course /Hwy 76 Begins at Dark Free Parking - No Charge to Attend Bring blankets &amp\; lawn chairs. Beverages and Snacks will be available for purchase. NO PERSONAL COOLERS OR PETS ARE ALLOWED ON THE GOLF COURSE. Contact: 706-379-4606 for more information
LOCATION:Brasstown Valley Resort & Spa \, Young Harris GA
UID:e.256.37698
SEQUENCE:3
DTSTAMP:20260423T165725Z
URL:https://members.visitblairsvillega.com/events/details/fireworks-show-at-brasstown-valley-resort-07-04-2015-37698
END:VEVENT

END:VCALENDAR
