BEGIN:VCALENDAR
VERSION:2.0
PRODID:-//ChamberMaster//Event Calendar 2.0//EN
METHOD:PUBLISH
X-PUBLISHED-TTL:P3D
REFRESH-INTERVAL:P3D
CALSCALE:GREGORIAN
BEGIN:VEVENT
DTSTART:20140705T013000Z
DTEND:20140705T020000Z
X-MICROSOFT-CDO-ALLDAYEVENT:FALSE
SUMMARY:Fireworks Show Young Harris
DESCRIPTION:Fireworks Show in Young Harris. Fireworks will be shot off at the Brasstown Valley Resort Golf Course beginning at dark. Viewing on the Golf Course\, Blankets\, Lawn Chairs may be brought in. Beverages and Snacks will be available for purchase on the course. No Personal Coolers or Pets are allowed on the Golf Course.
X-ALT-DESC;FMTTYPE=text/html:Fireworks Show in Young Harris. Fireworks will be shot off at the Brasstown Valley Resort Golf Course beginning at dark. Viewing on the Golf Course\, Blankets\, Lawn Chairs may be brought in. Beverages and Snacks will be available for purchase on the course. No Personal Coolers or Pets are allowed on the Golf Course.
LOCATION:Brasstown Valley Resort Young Harris
UID:e.256.24598
SEQUENCE:3
DTSTAMP:20260424T091658Z
URL:https://members.visitblairsvillega.com/events/details/fireworks-show-young-harris-07-04-2014-24598
END:VEVENT

END:VCALENDAR
