BEGIN:VCALENDAR
VERSION:2.0
PRODID:-//ChamberMaster//Event Calendar 2.0//EN
METHOD:PUBLISH
X-PUBLISHED-TTL:P3D
REFRESH-INTERVAL:P3D
CALSCALE:GREGORIAN
BEGIN:VEVENT
DTSTART:20140503T163000Z
DTEND:20140503T210000Z
X-MICROSOFT-CDO-ALLDAYEVENT:FALSE
SUMMARY:First Baptist Student Choir Scramble Golf Tournament
DESCRIPTION:First Baptist Student Choir Scramble Golf Tournament\n\nSaturday\, May 3rd \n\nTee time: 1:30\, Registration at 12:30\n\nButternut Creek Golf Course\n\n$75 per golfer\, Includes 18 holes of golf\, dinner\, & prizes. Proceeds to help our students go to the Holy Land!\n\nPlease contact Lisa @ 706-745-2469
X-ALT-DESC;FMTTYPE=text/html:<span style="font-size: 14px\;"><strong><span style="font-family: arial rounded mt bold\,sans-serif\;"><span style="color: rgb(118\, 146\, 60)\;">First Baptist Student Choir </span></span></strong><strong><span style="font-family: arial rounded mt bold\,sans-serif\;"><span style="color: rgb(118\, 146\, 60)\;">Scramble Golf Tournament</span></span></strong></span><br />\n<span style="font-size: 12px\;"><span style="font-family: arial rounded mt bold\,sans-serif\;"><span style="color: rgb(118\, 146\, 60)\;">Saturday\, May 3<sup>rd</sup> </span></span></span><br />\n<span style="font-size: 12px\;"><span style="font-family: arial rounded mt bold\,sans-serif\;"><span style="color: rgb(118\, 146\, 60)\;">Tee time: 1:30\, Registration at 12:30</span></span></span><br />\n<span style="font-size: 12px\;"><span style="font-family: arial rounded mt bold\,sans-serif\;"><span style="color: rgb(118\, 146\, 60)\;">Butternut Creek Golf Course</span></span></span><br />\n<span style="font-size: 28pt\;"><span style="font-family: arial rounded mt bold\,sans-serif\;"><span style="color: rgb(118\, 146\, 60)\;"><span style="font-size: 12px\;">$75 per golfer\, Includes 18 holes of golf\, dinner\, &amp\; prizes.</span> <span style="font-size: 12px\;">Proceeds to help our students go to the Holy Land!</span></span></span></span><br />\n<span style="font-size: 12px\;"><span style="font-family: arial rounded mt bold\,sans-serif\;"><span style="color: rgb(118\, 146\, 60)\;">Please contact Lisa @ 706-745-2469</span></span></span><br />\n<br />\n&nbsp\;
LOCATION:Butternut Creek Golf Course
UID:e.256.24243
SEQUENCE:3
DTSTAMP:20260424T122313Z
URL:https://members.visitblairsvillega.com/events/details/first-baptist-student-choir-scramble-golf-tournament-05-03-2014-24243
END:VEVENT

END:VCALENDAR
