BEGIN:VCALENDAR
VERSION:2.0
PRODID:-//ChamberMaster//Event Calendar 2.0//EN
METHOD:PUBLISH
X-PUBLISHED-TTL:P3D
REFRESH-INTERVAL:P3D
CALSCALE:GREGORIAN
BEGIN:VEVENT
DTSTART;VALUE=DATE:20140202
DTEND;VALUE=DATE:20140203
TRANSP:TRANSPARENT
X-MICROSOFT-CDO-ALLDAYEVENT:TRUE
SUMMARY:First Degree Reiki class
DESCRIPTION:Reiki is a healing system that originated in Japan.  This 4 day course will teach you to bring the calm healing of Reiki to yourself and others\, guaranteed.  Anyone can do it when properly trained as it requires no special gift\, talent or belief system.  Reiki is not affiliated with any religion and is safe to use in any situation.  It helps bring balance and harmony and is helpful for physical\, mental or emotional pain.\n\n\n\nThurs. Jan. 30 AND Fri. Jan 31 5:30-8:30 pm\n\nSat. Feb. 1 11 a.m. to 5 pm\n\nSunday Feb. 2 12-2:30 pm
X-ALT-DESC;FMTTYPE=text/html:Reiki is a healing system that originated in Japan. &nbsp\;This<strong> 4 day course </strong>will teach you to bring the&nbsp\;calm healing of Reiki to yourself and others\, guaranteed. &nbsp\;Anyone can do it when properly trained as it requires no special gift\, talent or belief system. &nbsp\;Reiki is not affiliated with any religion and is safe to use in any situation. &nbsp\;It helps bring balance and harmony and is helpful for physical\, mental or emotional pain.<br />\n<br />\n<strong>Thurs. Jan. 30 AND Fri. Jan 31 5:30-8:30 pm<br />\nSat. Feb. 1 11 a.m. to 5 pm<br />\nSunday Feb. 2 12-2:30 pm&nbsp\;&nbsp\;</strong><br />\n<br type="_moz" />\n
LOCATION:The home of Sukoshi Rice\, Blairsville\, GA directions upon registration
UID:e.256.21184
SEQUENCE:3
DTSTAMP:20260424T164337Z
URL:https://members.visitblairsvillega.com/events/details/first-degree-reiki-class-02-02-2014-21184
END:VEVENT

END:VCALENDAR
