BEGIN:VCALENDAR
VERSION:2.0
PRODID:-//ChamberMaster//Event Calendar 2.0//EN
METHOD:PUBLISH
X-PUBLISHED-TTL:P3D
REFRESH-INTERVAL:P3D
CALSCALE:GREGORIAN
BEGIN:VEVENT
DTSTART:20150703T220000Z
DTEND:20150704T010000Z
X-MICROSOFT-CDO-ALLDAYEVENT:FALSE
SUMMARY:First Friday After Hours at Hightower Creek Vineyards
DESCRIPTION:Mike Armstrong will be performing for our First Friday After Hours from 6-9pm on 7/3/2015! Mike plays a variety of tunes that you won't be able to help but sing along to! Come enjoy an evening of fun\, music and wine with us. \n\nAdmission is $10.00 and includes a glass of wine or wine Lushie! Bring a picnic to enjoy with any of our wines or try one of our cheese samplers. Children are welcome. Leashed pets are permitted outside.
X-ALT-DESC;FMTTYPE=text/html:<div>Mike Armstrong will be performing for our First Friday After Hours&nbsp\;<a href="x-apple-data-detectors://22">from 6-9pm on 7/3/2015</a>! Mike plays a variety of tunes that you won&#39\;t be able to help but sing along to! Come enjoy an evening of fun\, music and wine with us.&nbsp\;</div>\n\n<div>Admission is $10.00 and includes a glass of wine or wine Lushie! Bring a picnic to enjoy with any of our wines or try one of our cheese samplers. Children are welcome. Leashed pets are permitted outside.</div>\n
LOCATION:7150 Canaan Drive Hiawassee\, GA 30546
UID:e.256.40424
SEQUENCE:3
DTSTAMP:20260423T165519Z
URL:https://members.visitblairsvillega.com/events/details/first-friday-after-hours-at-hightower-creek-vineyards-07-03-2015-40424
END:VEVENT

END:VCALENDAR
