BEGIN:VCALENDAR
VERSION:2.0
PRODID:-//ChamberMaster//Event Calendar 2.0//EN
METHOD:PUBLISH
X-PUBLISHED-TTL:P3D
REFRESH-INTERVAL:P3D
CALSCALE:GREGORIAN
BEGIN:VEVENT
DTSTART:20150807T220000Z
DTEND:20150808T010000Z
X-MICROSOFT-CDO-ALLDAYEVENT:FALSE
SUMMARY:"First Friday After Hours" at Hightower Creek Vineyards
DESCRIPTION:Andrew Chastain will be performing for our First Friday After Hours from 6-9pm on 8/7/2015! Andrew plays a variety of country and southern rock and is an incredibly talented up and coming star! Come enjoy an evening of fun\, music and wine with us. \n\nAdmission is $10.00 and includes a glass of wine or wine Lushie! Bring a picnic to enjoy with any of our wines or try one of our cheese samplers. Children are welcome. Leashed pets are permitted outside.
X-ALT-DESC;FMTTYPE=text/html:<div>Andrew Chastain will be performing for our First Friday After Hours&nbsp\;<a href="x-apple-data-detectors://58">from 6-9pm on 8/7/2015</a>! Andrew plays a variety of country and southern rock and is an incredibly talented up and coming star! Come enjoy an evening of fun\, music and wine with us.&nbsp\;</div>\n\n<div>Admission is $10.00 and includes a glass of wine or wine Lushie! Bring a picnic to enjoy with any of our wines or try one of our cheese samplers. Children are welcome. Leashed pets are permitted outside.</div>\n
LOCATION:7150 Canaan Drive Hiawassee\, GA 30546
UID:e.256.41368
SEQUENCE:3
DTSTAMP:20260423T151233Z
URL:https://members.visitblairsvillega.com/events/details/first-friday-after-hours-at-hightower-creek-vineyards-08-07-2015-41368
END:VEVENT

END:VCALENDAR
