BEGIN:VCALENDAR
VERSION:2.0
PRODID:-//ChamberMaster//Event Calendar 2.0//EN
METHOD:PUBLISH
X-PUBLISHED-TTL:P3D
REFRESH-INTERVAL:P3D
CALSCALE:GREGORIAN
BEGIN:VEVENT
DTSTART:20151002T220000Z
DTEND:20151003T010000Z
X-MICROSOFT-CDO-ALLDAYEVENT:FALSE
SUMMARY:First Friday After Hours featuring Smith and Edwards at Hightower Creek Vineyards
DESCRIPTION:Come join us for our First Friday After Hours on Oct 2nd 2015 as we welcome Smith and Edwards as our featured performers! Music is from 6-9pm. Admission is $10.00 and includes a glass of wine or wine Lushie! Bring a picnic to enjoy with any of our wines or try one of our cheese samplers. Children are welcome. Leashed pets are permitted outside.
X-ALT-DESC;FMTTYPE=text/html:Come join us for our First Friday After Hours on Oct 2nd 2015 as we welcome Smith and Edwards as our featured performers! Music is from 6-9pm. Admission is $10.00 and includes a glass of wine or wine Lushie! Bring a picnic to enjoy with any of our wines or try one of our cheese samplers. Children are welcome. Leashed pets are permitted outside.
LOCATION:7150 Canaan Drive Hiawassee\, GA 30546
UID:e.256.44223
SEQUENCE:3
DTSTAMP:20260423T103230Z
URL:https://members.visitblairsvillega.com/events/details/first-friday-after-hours-featuring-smith-and-edwards-at-hightower-creek-vineyards-10-02-2015-44223
END:VEVENT

END:VCALENDAR
