BEGIN:VCALENDAR
VERSION:2.0
PRODID:-//ChamberMaster//Event Calendar 2.0//EN
METHOD:PUBLISH
X-PUBLISHED-TTL:P3D
REFRESH-INTERVAL:P3D
CALSCALE:GREGORIAN
BEGIN:VEVENT
DTSTART:20161211T160000Z
DTEND:20161211T170000Z
X-MICROSOFT-CDO-ALLDAYEVENT:FALSE
SUMMARY:First Methodist Children's Choir Christmas Performance
DESCRIPTION:First Methodist's Children's Choir will perform as a part of our 11am presentation of the Sanctuary Choir's Christmas Cantata.
X-ALT-DESC;FMTTYPE=text/html:First Methodist&#39\;s Children&#39\;s Choir will perform as a part of our 11am presentation of the Sanctuary Choir&#39\;s Christmas Cantata.
LOCATION:FUMC is located at 938 Hwy 515 across from Meeks Park
UID:e.256.60687
SEQUENCE:3
DTSTAMP:20260420T093527Z
URL:https://members.visitblairsvillega.com/events/details/first-methodist-children-s-choir-christmas-performance-60687
END:VEVENT

END:VCALENDAR
