BEGIN:VCALENDAR
VERSION:2.0
PRODID:-//ChamberMaster//Event Calendar 2.0//EN
METHOD:PUBLISH
X-PUBLISHED-TTL:P3D
REFRESH-INTERVAL:P3D
CALSCALE:GREGORIAN
BEGIN:VEVENT
DTSTART:20160511T130000Z
DTEND:20160511T160000Z
X-MICROSOFT-CDO-ALLDAYEVENT:FALSE
SUMMARY:Fishing for Special Needs Children
DESCRIPTION:This wonderful day of fishing is open to all special needs youth.  There are limited slots so pre-registration is required for this event.   (May 12th is inclement weather date)
X-ALT-DESC;FMTTYPE=text/html:This wonderful day of fishing is open to all special needs youth.&nbsp\; There are limited slots so pre-registration is required for this event.&nbsp\;&nbsp\; (May 12th is inclement weather date)
LOCATION:Chattahoochee Forest National Fish Hatchery located on Rock Creek Road off GA Hwy 60 near Suches.
UID:e.256.50397
SEQUENCE:3
DTSTAMP:20260421T002318Z
URL:https://members.visitblairsvillega.com/events/details/fishing-for-special-needs-children-05-11-2016-50397
END:VEVENT

END:VCALENDAR
