BEGIN:VCALENDAR
VERSION:2.0
PRODID:-//ChamberMaster//Event Calendar 2.0//EN
METHOD:PUBLISH
X-PUBLISHED-TTL:P3D
REFRESH-INTERVAL:P3D
CALSCALE:GREGORIAN
BEGIN:VEVENT
DTSTART:20160729T150000Z
DTEND:20160729T170000Z
X-MICROSOFT-CDO-ALLDAYEVENT:FALSE
SUMMARY:Flag Dedication
DESCRIPTION:Veteran Service Organizations (VSO) in Union County will dedicate to Union County 7 flag pols and 7 flags. The pols are located in front of the Major Leon Davenport Veterans center. All veterans are welcome as is the public. It should be a memorable event for the county. One you will not want to miss.  Due to limited parking I suggest you park in the park and ride( behind McDonalds) and walk  to the ceremony across the street. Some seating will be provided for handicapped \, but it is suggest you bring your own seat if you need one. Presentation will be 30 to 45 min long. \n\n\n\nThe pols and flags  represent the 5 branches of military service\, the state flag\, the POW flag\, and the US flag. Maintenance of the flags will be the responsibility of the VSOs.\n\nThey present an awesome site upon entering Blairsville and we believe they will come a landmark to the entrance to the city.
X-ALT-DESC;FMTTYPE=text/html:<span style="font-size: medium\;"><span style="font-family: calibri\;">Veteran Service Organizations (VSO) in Union County will dedicate to Union County 7 flag pols and 7 flags. The pols are located in front of the Major Leon Davenport Veterans center. All veterans are welcome as is the public. It should be a memorable event for the county. One you will not want to miss.&nbsp\; Due to limited parking I suggest you park in the park and ride( behind McDonalds) and walk&nbsp\; to the ceremony across the street. Some seating will be provided for handicapped \, but it is suggest you bring your own seat if you need one. Presentation will be 30 to 45 min long. </span></span><br />\n<br />\n<span style="font-size: medium\;"><span style="font-family: calibri\;">The pols and flags&nbsp\; represent the 5 branches of military service\, the state flag\, the POW flag\, and the US flag. Maintenance of the flags will be the responsibility of the VSOs.</span></span><br />\n<span style="font-size: medium\;"><span style="font-family: calibri\;">They present an awesome site upon entering Blairsville and we believe they will come a landmark to the entrance to the city. </span></span><br />\n&nbsp\;
LOCATION:Major Leon Davenport Veterans Center\, Blairsville Ga.
UID:e.256.53894
SEQUENCE:3
DTSTAMP:20260420T182128Z
URL:https://members.visitblairsvillega.com/events/details/flag-dedication-07-29-2016-53894
END:VEVENT

END:VCALENDAR
