BEGIN:VCALENDAR
VERSION:2.0
PRODID:-//ChamberMaster//Event Calendar 2.0//EN
METHOD:PUBLISH
X-PUBLISHED-TTL:P3D
REFRESH-INTERVAL:P3D
CALSCALE:GREGORIAN
BEGIN:VEVENT
DTSTART:20141011T230000Z
DTEND:20141012T010000Z
X-MICROSOFT-CDO-ALLDAYEVENT:FALSE
SUMMARY:Flannel Shirt Bonfire Party
DESCRIPTION:Wholesome fun for all ages! Live music!
X-ALT-DESC;FMTTYPE=text/html:Wholesome fun for all ages! Live music!
LOCATION:Galaxy Bowling
UID:e.256.27589
SEQUENCE:3
DTSTAMP:20260424T045438Z
URL:https://members.visitblairsvillega.com/events/details/flannel-shirt-bonfire-party-10-11-2014-27589
END:VEVENT

END:VCALENDAR
