BEGIN:VCALENDAR
VERSION:2.0
PRODID:-//ChamberMaster//Event Calendar 2.0//EN
METHOD:PUBLISH
X-PUBLISHED-TTL:P3D
REFRESH-INTERVAL:P3D
CALSCALE:GREGORIAN
BEGIN:VEVENT
DTSTART:20170429T130000Z
DTEND:20170429T190000Z
X-MICROSOFT-CDO-ALLDAYEVENT:FALSE
SUMMARY:FOCUS - Festival of Christians United to Serve
DESCRIPTION:Christian churches\, ministries\, organizations\, musicians\, vendors join together in Jesus to share God's Love
X-ALT-DESC;FMTTYPE=text/html:Christian churches\, ministries\, organizations\, musicians\, vendors join together in Jesus to share God&#39\;s Love
LOCATION:Union County Farmer's Market
UID:e.256.59211
SEQUENCE:3
DTSTAMP:20260420T035631Z
URL:https://members.visitblairsvillega.com/events/details/focus-festival-of-christians-united-to-serve-59211
END:VEVENT

END:VCALENDAR
